BEGIN:VCALENDAR
VERSION:2.0
PRODID:-//ChamberMaster//Event Calendar 2.0//EN
METHOD:PUBLISH
X-PUBLISHED-TTL:P3D
REFRESH-INTERVAL:P3D
CALSCALE:GREGORIAN
BEGIN:VEVENT
DTSTART:20130420T180000Z
DTEND:20130420T180000Z
X-MICROSOFT-CDO-ALLDAYEVENT:FALSE
SUMMARY:It's Never too Late to Change Your Skin's Destiny
DESCRIPTION:It's Never too Late to Change Your Skin's Destiny\n\nPresented by: Cosmetic Skin & Laser
X-ALT-DESC;FMTTYPE=text/html:It&#39\;s Never too Late to Change Your Skin&#39\;s Destiny<br />\nPresented by: Cosmetic Skin &amp\; Laser
LOCATION:15344 Los Serranos Country Club Drive\, Suite 170\, Chino Hills
UID:e.1511.291
SEQUENCE:3
DTSTAMP:20260422T055835Z
URL:https://business.chinovalleychamber.com/events/details/it-s-never-too-late-to-change-your-skin-s-destiny-04-20-2013-291
END:VEVENT

END:VCALENDAR
