BEGIN:VCALENDAR
VERSION:2.0
PRODID:-//ChamberMaster//Event Calendar 2.0//EN
METHOD:PUBLISH
X-PUBLISHED-TTL:P3D
REFRESH-INTERVAL:P3D
CALSCALE:GREGORIAN
BEGIN:VEVENT
DTSTART:20130404T180000Z
DTEND:20130404T180000Z
X-MICROSOFT-CDO-ALLDAYEVENT:FALSE
SUMMARY:It's Never to Late to Change Your Skin's Destiny
DESCRIPTION:Cosmetic Skin & Laser
X-ALT-DESC;FMTTYPE=text/html:Cosmetic Skin &amp\; Laser
LOCATION:15944 Los Serranos Country Club Drive\, Suite 170\, Chino Hills
UID:e.1511.286
SEQUENCE:3
DTSTAMP:20260422T055836Z
URL:https://business.chinovalleychamber.com/events/details/it-s-never-to-late-to-change-your-skin-s-destiny-04-04-2013-286
END:VEVENT

END:VCALENDAR
