BEGIN:VCALENDAR
VERSION:2.0
PRODID:-//ChamberMaster//Event Calendar 2.0//EN
METHOD:PUBLISH
X-PUBLISHED-TTL:P3D
REFRESH-INTERVAL:P3D
CALSCALE:GREGORIAN
BEGIN:VEVENT
DTSTART:20131023T230000Z
DTEND:20131024T030000Z
X-MICROSOFT-CDO-ALLDAYEVENT:FALSE
SUMMARY:Inland Empires's Largest Mixer VII
DESCRIPTION:Inland Empire's Business Networking Event of the Year is Back!\n\nThe 7th Annual Inland Empire's largest Mixer combines the network power of Inland Empire area chambers of commerce and business organizations. Get ready to mix and mingle with professionals representing hundreds of industries and companies providing the ultimate business networking experience.
X-ALT-DESC;FMTTYPE=text/html:<span style="font-size: 14px\;"><span style="color: rgb(0\, 128\, 128)\;"><strong>Inland Empire&#39\;s Business Networking Event of the Year is Back!</strong></span></span><br />\nThe 7th Annual Inland Empire&#39\;s largest Mixer combines the network power of Inland Empire area chambers of commerce and business organizations. Get ready to mix and mingle with professionals representing hundreds of industries and companies providing the ultimate business networking experience.
LOCATION:Ontario Convention Center 2000 E Convention Center Way\, Ontario\, CA 91764
UID:e.1511.410
SEQUENCE:3
DTSTAMP:20260421T223213Z
URL:https://business.chinovalleychamber.com/events/details/inland-empires-s-largest-mixer-vii-10-23-2013-410
END:VEVENT

END:VCALENDAR
