BEGIN:VCALENDAR
VERSION:2.0
PRODID:-//ChamberMaster//Event Calendar 2.0//EN
METHOD:PUBLISH
X-PUBLISHED-TTL:P3D
REFRESH-INTERVAL:P3D
CALSCALE:GREGORIAN
BEGIN:VEVENT
DTSTART:20140221T160000Z
DTEND:20140221T210000Z
X-MICROSOFT-CDO-ALLDAYEVENT:FALSE
SUMMARY:Inland Empire Manufacturers' Summit 2014
DESCRIPTION:Mark your calendars to attend the Manufacturers' Summit 2014.\n\nPresented by the Manufacturers' Council of the Inland Empire.
X-ALT-DESC;FMTTYPE=text/html:Mark your calendars to attend the Manufacturers&#39\; Summit 2014.<br />\nPresented by the Manufacturers&#39\; Council of the Inland Empire.
LOCATION:Ontario Convention Center 2000 E. Convention Center Way\, Ontario
UID:e.1511.430
SEQUENCE:3
DTSTAMP:20260421T152154Z
URL:https://business.chinovalleychamber.com/events/details/inland-empire-manufacturers-summit-2014-02-21-2014-430
END:VEVENT

END:VCALENDAR
