BEGIN:VCALENDAR
VERSION:2.0
PRODID:-//ChamberMaster//Event Calendar 2.0//EN
METHOD:PUBLISH
X-PUBLISHED-TTL:P3D
REFRESH-INTERVAL:P3D
CALSCALE:GREGORIAN
BEGIN:VEVENT
DTSTART:20230920T153000Z
DTEND:20230920T193000Z
X-MICROSOFT-CDO-ALLDAYEVENT:FALSE
SUMMARY:Inland Empire AI Symposium: Empowering Business with Intelligence
DESCRIPTION:Chino Valley Chamber of Commerce Artificial Intelligence (AI)  Conference - Where Innovation Meets Opportunity! \n\n\n\nAre you ready to explore the cutting-edge world of Artificial Intelligence and its transformative impact on businesses? Join us at the Chino Valley Chamber of Commerce AI Conference\, a half-day event packed with panels and insightful discussions on the potential of AI for your organization.\n\n\n\n\n\nSPONSORSHIP OPPORTUNTIES \n\n\n\nPremier Sponsorship Package: $8\,000\n\n   - Exclusive branding as the "Premier Sponsor" of the event.\n\n   - Prominent logo placement on all event marketing materials\, including website\, banners\, and promotional emails.\n\n   - 50 tickets\n\n   - Acknowledgment in press releases and media coverage.\n\n \n\n Diamond Sponsorship Package: $5\,000\n\n   - Prominent branding as the "Diamond Sponsor" of the event.\n\n   - Logo placement on event website\, banners\, and marketing materials.\n\n   - 30 tickets.\n\n   - Recognition in press releases and media coverage.\n\n \n\nPlatinum Sponsorship Package: $3\,000\n\n   - Recognized as the "Platinum Sponsor" of the event.\n\n   - Logo visibility on the event website and select marketing materials.\n\n   - 24 tickets\n\n   - Mention in press releases and media coverage.\n\n \n\nGold Sponsorship Package: $2\,000\n\n   - Acknowledged as the "Gold Sponsor" of the event.\n\n   - Logo display on the event website and some marketing materials.\n\n   - 18 tickets\n\n   - Mention in press releases and media coverage.\n\n \n\nSilver Sponsorship Package: $1\,000\n\n   - Listed as the "Silver Sponsor" of the event.\n\n   - Logo placement on the event website.\n\n   - 12 tickets.\n\n   - Mention in press releases and media coverage.\n\n \n\nBronze Sponsorship Package: $500\n\n   - Acknowledged as the "Bronze Sponsor" of the event.\n\n   - Name listed on the event website\n\n    -6 tickets\n\n\n\nBreakfast Sponsor: 1\,800\n\n   - Acknowledged as the "Breakfast Sponsor" of the event.\n\n   - Name listed on the event website\n\n    - up to ten tickets \n\n\n\nVideography Sponsor: 1\,200\n\n   - Acknowledged as the "Videography Sponsor" of the event.\n\n   - Name listed on the event website\n\n    - up to ten tickets \n\n\n\n Sponsor: $3000\n\n   - Acknowledged as the "Videography Sponsor" of the event.\n\n   - Name listed on the event website\n\n    - 3 tickets\n\n\n\n Sponsor: $150\n\n   - Acknowledged as the "Videography Sponsor" of the event.\n\n   - Name listed on the event website\n\n    - 1 ticket\n\n\n\n\n\nEvent Timeline & Speakers:\n\n\n\n8:45 - Conference Kickoff\n\n   - Introduction\n\n   - Emcee Opening\n\n\n\n8:50 - Panel #1 - What is Artificial Intelligence?\n\n   - Discussion led by President & CEO \, Zeb Welborn\n\n   - Dr. Fengmei Gong - Data Analytics Professor at University of La Verne\n\n   - Joyce Odette: 100 Tech Tools to Consider / "Tech for Business Training"\n\n   - Shelby Lamar - Associate Director at Claremont College\n\n\n\n9:25 - Panel #2 - AI in Use - Empowering a Local Lighting Logistics Business \n\n   - Chad Treadwell - Monterey Lighting\n\n\n\n10:00 - Panel #3 - Businesses using \n\n   - Scott Goodwin: ComTac Training \n\n   - Michael Ghandour: Speech Recognition and Video Games \n\n   - Mark Ress - How services can be utilized to help businesses\n\n\n\n10:30 - Law\, Ethics\, AI Sharing of Resources\n\n   - Exploring vital topics including Employment Law\, Insurance Industry\, IP Issues\, and Ethics.\n\n\n\n10:55 - Panel #4 - Practical Applications for AI\n\n   - Vincent Graham: "No Code\, No Problem: Harnessing the Power of OpenAI for Non-Technical Teams" - \n\n   - Hadejah Burks: Integrating AI into Marketing and Sales Workflows\n\n   - Zeb Welborn: Live Demonstration of ChatGPT\n\n\n\n1:30 - Small Breakout Sessions\n\n   - Interactive sessions where you can explore "How Do You Use AI?" and "How Could You Use AI?" Don't miss the survey questions from the beginning of the presentation on the screen.\n\n\n\n11:50 - Zeeshan Subzwari and Dave Beck\n\n   - Using AI to Raise Capital or How to Use AI and Data to Create Recurring Revenue | Using AI to Create a Healthier Future in Southern California
X-ALT-DESC;FMTTYPE=text/html:<span style="font-size:12px\;"><span style="font-family:arial\;">Chino Valley Chamber of Commerce Artificial Intelligence (AI) &nbsp\;Conference - Where Innovation Meets Opportunity!&nbsp\;<br />\n<br />\nAre you ready to explore the cutting-edge world of Artificial Intelligence and its transformative impact on businesses? Join us at the Chino Valley Chamber of Commerce AI Conference\, a half-day event packed with panels and insightful discussions on the potential of AI for your organization.<br />\n<br />\n<br />\n<strong>SPONSORSHIP OPPORTUNTIES&nbsp\;</strong><br />\n<br />\n<strong>Premier Sponsorship Package: $8\,000</strong><br />\n&nbsp\;&nbsp\; - Exclusive branding as the &quot\;Premier Sponsor&quot\; of the event.<br />\n&nbsp\;&nbsp\; - Prominent logo placement on all event marketing materials\, including website\, banners\, and promotional emails.<br />\n&nbsp\;&nbsp\; - 50 tickets<br />\n&nbsp\;&nbsp\;&nbsp\;- Acknowledgment in press releases and media coverage.<br />\n&nbsp\;<br />\n<strong>&nbsp\;Diamond Sponsorship Package: $5\,000</strong><br />\n&nbsp\;&nbsp\; - Prominent branding as the &quot\;Diamond Sponsor&quot\; of the event.<br />\n&nbsp\;&nbsp\; - Logo placement on event website\, banners\, and marketing materials.<br />\n&nbsp\;&nbsp\; - 30 tickets.<br />\n&nbsp\;&nbsp\; - Recognition in press releases and media coverage.<br />\n&nbsp\;<br />\n<strong>Platinum Sponsorship Package: $3\,000</strong><br />\n&nbsp\;&nbsp\; - Recognized as the &quot\;Platinum Sponsor&quot\; of the event.<br />\n&nbsp\;&nbsp\; - Logo visibility on the event website and select marketing materials.<br />\n&nbsp\;&nbsp\; - 24 tickets<br />\n&nbsp\;&nbsp\; - Mention in press releases and media coverage.<br />\n&nbsp\;<br />\n<strong>Gold Sponsorship Package: $2\,000</strong><br />\n&nbsp\;&nbsp\; - Acknowledged as the &quot\;Gold Sponsor&quot\; of the event.<br />\n&nbsp\;&nbsp\; - Logo display on the event website and some marketing materials.<br />\n&nbsp\;&nbsp\; - 18 tickets<br />\n&nbsp\;&nbsp\; - Mention in press releases and media coverage.<br />\n&nbsp\;<br />\n<strong>Silver Sponsorship Package: $1\,000</strong><br />\n&nbsp\;&nbsp\; - Listed as the &quot\;Silver Sponsor&quot\; of the event.<br />\n&nbsp\;&nbsp\; - Logo placement on the event website.<br />\n&nbsp\;&nbsp\; - 12 tickets.<br />\n&nbsp\;&nbsp\; - Mention in press releases and media coverage.<br />\n&nbsp\;<br />\n<strong>Bronze Sponsorship Package: $500</strong><br />\n&nbsp\;&nbsp\; - Acknowledged as the &quot\;Bronze Sponsor&quot\; of the event.<br />\n&nbsp\;&nbsp\; - Name listed on the event website<br />\n&nbsp\; &nbsp\; -6 tickets<br />\n<br />\n<strong>Breakfast Sponsor: 1\,800</strong><br />\n&nbsp\;&nbsp\; - Acknowledged as the &quot\;Breakfast Sponsor&quot\; of the event.<br />\n&nbsp\;&nbsp\; - Name listed on the event website<br />\n&nbsp\; &nbsp\; - up to ten tickets&nbsp\;<br />\n<br />\n<strong>Videography Sponsor: 1\,200</strong><br />\n&nbsp\;&nbsp\; - Acknowledged as the &quot\;Videography Sponsor&quot\; of the event.<br />\n&nbsp\;&nbsp\; - Name listed on the event website<br />\n&nbsp\; &nbsp\; - up to ten tickets&nbsp\;</span></span><br />\n<br />\n<strong style="font-family: arial\; font-size: 12px\;">&nbsp\;Sponsor: $3000</strong><br style="font-family: arial\; font-size: 12px\;" />\n<span style="font-family: arial\; font-size: 12px\;">&nbsp\;&nbsp\; - Acknowledged as the &quot\;Videography Sponsor&quot\; of the event.</span><br style="font-family: arial\; font-size: 12px\;" />\n<span style="font-family: arial\; font-size: 12px\;">&nbsp\;&nbsp\; - Name listed on the event website</span><br style="font-family: arial\; font-size: 12px\;" />\n<span style="font-family: arial\; font-size: 12px\;">&nbsp\; &nbsp\; - 3 tickets</span><br />\n<br />\n<strong style="font-family: arial\; font-size: 12px\;">&nbsp\;Sponsor: $150</strong><br style="font-family: arial\; font-size: 12px\;" />\n<span style="font-family: arial\; font-size: 12px\;">&nbsp\;&nbsp\; - Acknowledged as the &quot\;Videography Sponsor&quot\; of the event.</span><br style="font-family: arial\; font-size: 12px\;" />\n<span style="font-family: arial\; font-size: 12px\;">&nbsp\;&nbsp\; - Name listed on the event website</span><br style="font-family: arial\; font-size: 12px\;" />\n<span style="font-family: arial\; font-size: 12px\;">&nbsp\; &nbsp\; - 1 ticket</span><br style="font-family: arial\; font-size: 12px\;" />\n<br />\n<br />\n<span style="font-size:12px\;"><span style="font-family:arial\;">Event Timeline &amp\; Speakers:<br />\n<br />\n8:45 - Conference Kickoff<br />\n&nbsp\; &nbsp\;- Introduction<br />\n&nbsp\; &nbsp\;- Emcee Opening<br />\n<br />\n8:50 - Panel #1 - What is Artificial Intelligence?<br />\n&nbsp\; &nbsp\;- Discussion led by President &amp\; CEO \, Zeb Welborn<br />\n&nbsp\; &nbsp\;- Dr. Fengmei Gong - Data Analytics Professor at University of La Verne<br />\n&nbsp\; &nbsp\;- Joyce Odette: 100 Tech Tools to Consider / &quot\;Tech for Business Training&quot\;<br />\n&nbsp\; &nbsp\;- Shelby Lamar - Associate Director at Claremont College<br />\n<br />\n9:25 - Panel #2 - AI in Use - Empowering a Local Lighting Logistics Business&nbsp\;<br />\n&nbsp\; &nbsp\;- Chad Treadwell - Monterey Lighting<br />\n<br />\n10:00 - Panel #3 - Businesses using&nbsp\;<br />\n&nbsp\; &nbsp\;- Scott Goodwin: ComTac Training&nbsp\;<br />\n&nbsp\; &nbsp\;- Michael Ghandour: Speech Recognition and Video Games&nbsp\;<br />\n&nbsp\; &nbsp\;- Mark Ress - How services can be utilized to help businesses<br />\n<br />\n10:30 - Law\, Ethics\, AI Sharing of Resources<br />\n&nbsp\; &nbsp\;- Exploring vital topics including Employment Law\, Insurance Industry\, IP Issues\, and Ethics.<br />\n<br />\n10:55 - Panel #4 - Practical Applications for AI<br />\n&nbsp\; &nbsp\;- Vincent Graham: &quot\;No Code\, No Problem: Harnessing the Power of OpenAI for Non-Technical Teams&quot\; -&nbsp\;<br />\n&nbsp\; &nbsp\;- Hadejah Burks: Integrating AI into Marketing and Sales Workflows<br />\n&nbsp\; &nbsp\;- Zeb Welborn: Live Demonstration of ChatGPT<br />\n<br />\n1:30 - Small Breakout Sessions<br />\n&nbsp\; &nbsp\;- Interactive sessions where you can explore &quot\;How Do You Use AI?&quot\; and &quot\;How Could You Use AI?&quot\; Don&#39\;t miss the survey questions from the beginning of the presentation on the screen.<br />\n<br />\n11:50 - Zeeshan Subzwari and Dave Beck<br />\n&nbsp\; &nbsp\;- Using AI to Raise Capital or How to Use AI and Data to Create Recurring Revenue | Using AI to Create a Healthier Future in Southern California</span></span>
LOCATION:
UID:e.1511.4774
SEQUENCE:3
DTSTAMP:20260422T162247Z
URL:https://business.chinovalleychamber.com/events/details/inland-empire-ai-symposium-empowering-business-with-intelligence-4774
END:VEVENT

END:VCALENDAR
