BEGIN:VCALENDAR
VERSION:2.0
PRODID:-//ChamberMaster//Event Calendar 2.0//EN
METHOD:PUBLISH
X-PUBLISHED-TTL:P3D
REFRESH-INTERVAL:P3D
CALSCALE:GREGORIAN
BEGIN:VEVENT
DTSTART:20260428T180000Z
DTEND:20260428T200000Z
X-MICROSOFT-CDO-ALLDAYEVENT:FALSE
SUMMARY:Industry Roundtable for Industrial Maintenance Technicians
DESCRIPTION:Industry Roundtable for Industrial Maintenance Technicians \n\nIn Partnership with the Chaffey College InTech Center\n\nJoin us for a dynamic industry roundtable designed to bring together leaders in manufacturing and logistics for a meaningful conversation on the future of workforce development.\n\nHosted in partnership with the Chaffey College InTech Center\, this session will highlight how the Center is equipping students with the technical skills\, hands-on experience\, and industry knowledge needed to succeed in today's rapidly evolving workforce. Attendees will gain insight into innovative training programs\, emerging technologies\, and how education is adapting to meet industry demand.\n\nMore importantly\, this roundtable is an opportunity for employers to take an active role in shaping the future talent pipeline. We invite you to share your expertise\, discuss current workforce challenges\, and identify the critical skills your business needs to remain competitive.\n\nWhy Attend?\n\n\n	\n	Learn how the InTech Center is preparing students for careers in manufacturing and logistics\n	\n	\n	Share your perspective on workforce gaps\, trends\, and hiring needs\n	\n	\n	Collaborate with industry peers and education partners\n	\n	\n	Help influence training programs to better align with real-world demands\n	\n\n\nWhether you are a business owner\, operations leader\, or workforce strategist\, your voice is essential in building a stronger\, more aligned workforce ecosystem.\n\nEvent Details\n\nDate: April 28th\, 2026 \n\nTime: 11 AM - 1 PM \n\nLocation: Chaffey College InTech Center\, Building A\, 9400 Cherry Ave\, Fontana\, CA 92335\n\nSecure your spot today and be part of shaping the future of manufacturing and logistics talent.
X-ALT-DESC;FMTTYPE=text/html:<p><strong>Industry Roundtable for Industrial Maintenance Technicians&nbsp\;</strong></p>\n\n<p><strong>In Partnership with the Chaffey College InTech Center</strong></p>\n\n<p>Join us for a dynamic industry roundtable designed to bring together leaders in manufacturing and logistics for a meaningful conversation on the future of workforce development.</p>\n\n<p>Hosted in partnership with the Chaffey College InTech Center\, this session will highlight how the Center is equipping students with the technical skills\, hands-on experience\, and industry knowledge needed to succeed in today&rsquo\;s rapidly evolving workforce. Attendees will gain insight into innovative training programs\, emerging technologies\, and how education is adapting to meet industry demand.</p>\n\n<p>More importantly\, this roundtable is an opportunity for employers to take an active role in shaping the future talent pipeline. We invite you to share your expertise\, discuss current workforce challenges\, and identify the critical skills your business needs to remain competitive.</p>\n\n<p><strong>Why Attend?</strong></p>\n\n<ul>\n	<li>\n	<p>Learn how the InTech Center is preparing students for careers in manufacturing and logistics</p>\n	</li>\n	<li>\n	<p>Share your perspective on workforce gaps\, trends\, and hiring needs</p>\n	</li>\n	<li>\n	<p>Collaborate with industry peers and education partners</p>\n	</li>\n	<li>\n	<p>Help influence training programs to better align with real-world demands</p>\n	</li>\n</ul>\n\n<p>Whether you are a business owner\, operations leader\, or workforce strategist\, your voice is essential in building a stronger\, more aligned workforce ecosystem.</p>\n\n<p><u><strong>Event Details</strong></u><br />\n<strong>Date:</strong>&nbsp\;April 28th\, 2026&nbsp\;<br />\n<strong>Time:</strong>&nbsp\;11&nbsp\;AM - 1 PM&nbsp\;<br />\n<strong>Location:</strong> Chaffey College InTech Center\,&nbsp\;Building A\, 9400 Cherry Ave\, Fontana\, CA 92335</p>\n\n<p><strong>Secure your spot today and be part of shaping the future of manufacturing and logistics talent.</strong></p>\n\n<p>&nbsp\;</p>\n
LOCATION:Location: Chaffey College InTech Center\, Building A\, 9400 Cherry Ave\, Fontana\, CA 92335
UID:e.1511.8258
SEQUENCE:3
DTSTAMP:20260422T011212Z
URL:https://business.chinovalleychamber.com/events/details/industry-roundtable-for-industrial-maintenance-technicians-8258
END:VEVENT

END:VCALENDAR
