BEGIN:VCALENDAR
VERSION:2.0
PRODID:-//ChamberMaster//Event Calendar 2.0//EN
METHOD:PUBLISH
X-PUBLISHED-TTL:P3D
REFRESH-INTERVAL:P3D
CALSCALE:GREGORIAN
BEGIN:VEVENT
DTSTART:20260210T213000Z
DTEND:20260210T223000Z
X-MICROSOFT-CDO-ALLDAYEVENT:FALSE
SUMMARY:How Government Actually Works and Why It Matters for Your Business with Nathan Stewart | Innovation Council
DESCRIPTION:How Government Actually Works   and Why It Matters for Your Business\n\nGovernment decisions shape your business every day often in ways that are not obvious until they affect your bottom line. Regulations\, funding programs\, permitting\, workforce initiatives\, and economic development efforts all flow through systems that most business owners were never taught to navigate.\n\nJoin the Chino Valley Chamber of Commerce for an insightful Innovation Council program with Nathan Stewart\, Community Program Manager for the Inland Empire Tech Bridge\, as he pulls back the curtain on how government really works and how businesses can engage more effectively.\n\nDrawing from his experience working at the intersection of government\, business\, and community engagement\, Nathan will break down:\n\n\n	\n	How local and regional government functions in practice\n	\n	\n	Where key business-related decisions are actually made\n	\n	\n	Why understanding these systems gives businesses a competitive advantage\n	\n	\n	How entrepreneurs and business leaders can better access resources\, programs\, and partnerships\n	\n\n\nThis session is designed to be practical\, accessible\, and immediately useful especially for business owners who want to be informed\, proactive\, and positioned for growth. \n\nEvent Details\n\n\n	\n	Date: Tuesday\, February 10\n	\n	\n	Time: 1:30 PM to 2:30 PM\n	\n	\n	Location: Chino Valley Chamber of Commerce Building (Hybrid Options Can Be Made Available Upon Request)\n	\n	\n	Cost: Free for Chamber Members | $20 for Non-Members\n	\n	\n	Hospitality: Light refreshments provided (fruit tray and beverages)\n	\n\n\nWhether you are a small business owner\, executive leader\, or entrepreneur\, this conversation will help you better understand the systems that influence your business and how to engage them strategically.\n\nSpace is limited. Advance registration is recommended.\n\n\n\n \n\nPresenting Sponsor   $1\,000 (1 Available)\n\nPosition your organization as a trusted supporter of business education and civic understanding.\n\nIncludes:\n\n\n	\n	Recognition as Presenting Sponsor in all event promotions (email\, website\, and social media)\n	\n	\n	Verbal recognition at the beginning and close of the program\n	\n	\n	Logo placement on event signage and registration page\n	\n	\n	Opportunity to provide brief welcome remarks (up to 2 minutes)\n	\n	\n	Ability to display branded materials at the event\n	\n	\n	Two complimentary non-member registrations\n	\n	\n	Post-event recognition in Chamber communications\n	\n\n\n\nSupporting Sponsor   $500 (2 Available)\n\nDemonstrate leadership and community engagement while gaining targeted exposure to local business leaders.\n\nIncludes:\n\n\n	\n	Logo recognition in event promotions and on the event page\n	\n	\n	Verbal recognition during the program\n	\n	\n	Ability to provide branded materials or giveaways\n	\n	\n	One complimentary non-member registration\n	\n	\n	Post-event recognition through Chamber channels\n	\n\n\n\nCommunity Partner Sponsor   $250 (Unlimited)\n\nA simple\, accessible way to support innovation and business education in the Chino Valley.\n\nIncludes:\n\n\n	\n	Name recognition on the event webpage\n	\n	\n	Recognition in event signage\n	\n	\n	Verbal acknowledgment during the program\n	\n	\n	Post-event recognition in Chamber recap communications
X-ALT-DESC;FMTTYPE=text/html:<p data-end="283" data-start="211" style="caret-color: rgb(0\, 0\, 0)\; color: rgb(0\, 0\, 0)\;"><strong data-end="283" data-start="211">How Government Actually Works &mdash\; and Why It Matters for Your Business</strong></p>\n\n<p data-end="587" data-start="285" style="caret-color: rgb(0\, 0\, 0)\; color: rgb(0\, 0\, 0)\;">Government decisions shape your business every day&mdash\;often in ways that are not obvious until they affect your bottom line. Regulations\, funding programs\, permitting\, workforce initiatives\, and economic development efforts all flow through systems that most business owners were never taught to navigate.</p>\n\n<p data-end="873" data-start="589" style="caret-color: rgb(0\, 0\, 0)\; color: rgb(0\, 0\, 0)\;">Join the Chino Valley Chamber of Commerce for an insightful Innovation Council program with&nbsp\;<strong data-end="699" data-start="681">Nathan Stewart</strong>\, Community Program Manager for the&nbsp\;<strong data-end="764" data-start="735">Inland Empire Tech Bridge</strong>\, as he pulls back the curtain on how government really works&mdash\;and how businesses can engage more effectively.</p>\n\n<p data-end="1005" data-start="875" style="caret-color: rgb(0\, 0\, 0)\; color: rgb(0\, 0\, 0)\;">Drawing from his experience working at the intersection of government\, business\, and community engagement\, Nathan will break down:</p>\n\n<ul data-end="1292" data-start="1006" style="caret-color: rgb(0\, 0\, 0)\; color: rgb(0\, 0\, 0)\;">\n	<li data-end="1063" data-start="1006">\n	<p data-end="1063" data-start="1008">How local and regional government functions in practice</p>\n	</li>\n	<li data-end="1120" data-start="1064">\n	<p data-end="1120" data-start="1066">Where key business-related decisions are actually made</p>\n	</li>\n	<li data-end="1195" data-start="1121">\n	<p data-end="1195" data-start="1123">Why understanding these systems gives businesses a competitive advantage</p>\n	</li>\n	<li data-end="1292" data-start="1196">\n	<p data-end="1292" data-start="1198">How entrepreneurs and business leaders can better access resources\, programs\, and partnerships</p>\n	</li>\n</ul>\n\n<p data-end="1464" data-start="1294" style="caret-color: rgb(0\, 0\, 0)\; color: rgb(0\, 0\, 0)\;">This session is designed to be practical\, accessible\, and immediately useful&mdash\;especially for business owners who want to be informed\, proactive\, and positioned for growth.&nbsp\;</p>\n\n<p data-end="1483" data-start="1466" style="caret-color: rgb(0\, 0\, 0)\; color: rgb(0\, 0\, 0)\;"><strong data-end="1483" data-start="1466">Event Details</strong></p>\n\n<ul data-end="1749" data-start="1484" style="caret-color: rgb(0\, 0\, 0)\; color: rgb(0\, 0\, 0)\;">\n	<li data-end="1520" data-start="1484">\n	<p data-end="1520" data-start="1486"><strong data-end="1495" data-start="1486">Date: Tuesday\, February 10</strong></p>\n	</li>\n	<li data-end="1554" data-start="1521">\n	<p data-end="1554" data-start="1523"><strong data-end="1532" data-start="1523">Time:</strong>&nbsp\;1:30 PM to 2:30 PM</p>\n	</li>\n	<li data-end="1614" data-start="1555">\n	<p data-end="1614" data-start="1557"><strong data-end="1570" data-start="1557">Location:</strong>&nbsp\;Chino Valley Chamber of Commerce Building (Hybrid Options Can Be Made Available Upon Request)</p>\n	</li>\n	<li data-end="1675" data-start="1615">\n	<p data-end="1675" data-start="1617"><strong data-end="1626" data-start="1617">Cost:</strong>&nbsp\;Free for Chamber Members | $20 for Non-Members</p>\n	</li>\n	<li data-end="1749" data-start="1676">\n	<p data-end="1749" data-start="1678"><strong data-end="1694" data-start="1678">Hospitality:</strong>&nbsp\;Light refreshments provided (fruit tray and beverages)</p>\n	</li>\n</ul>\n\n<p data-end="1954" data-start="1751" style="caret-color: rgb(0\, 0\, 0)\; color: rgb(0\, 0\, 0)\;">Whether you are a small business owner\, executive leader\, or entrepreneur\, this conversation will help you better understand the systems that influence your business&mdash\;and how to engage them strategically.</p>\n\n<p data-end="2010" data-is-last-node="" data-is-only-node="" data-start="1956" style="caret-color: rgb(0\, 0\, 0)\; color: rgb(0\, 0\, 0)\;">Space is limited. Advance registration is recommended.<br />\n<br />\n&nbsp\;</p>\n\n<h3 data-end="440" data-start="395" style="caret-color: rgb(0\, 0\, 0)\; color: rgb(0\, 0\, 0)\;">Presenting Sponsor &mdash\; $1\,000 (1 Available)</h3>\n\n<p data-end="537" data-start="441" style="caret-color: rgb(0\, 0\, 0)\; color: rgb(0\, 0\, 0)\;">Position your organization as a trusted supporter of business education and civic understanding.</p>\n\n<p data-end="552" data-start="539" style="caret-color: rgb(0\, 0\, 0)\; color: rgb(0\, 0\, 0)\;"><strong data-end="552" data-start="539">Includes:</strong></p>\n\n<ul data-end="981" data-start="553" style="caret-color: rgb(0\, 0\, 0)\; color: rgb(0\, 0\, 0)\;">\n	<li data-end="649" data-start="553">\n	<p data-end="649" data-start="555">Recognition as&nbsp\;<em data-end="590" data-start="570">Presenting Sponsor</em>&nbsp\;in all event promotions (email\, website\, and social media)</p>\n	</li>\n	<li data-end="712" data-start="650">\n	<p data-end="712" data-start="652">Verbal recognition at the beginning and close of the program</p>\n	</li>\n	<li data-end="768" data-start="713">\n	<p data-end="768" data-start="715">Logo placement on event signage and registration page</p>\n	</li>\n	<li data-end="833" data-start="769">\n	<p data-end="833" data-start="771">Opportunity to provide brief welcome remarks (up to 2 minutes)</p>\n	</li>\n	<li data-end="885" data-start="834">\n	<p data-end="885" data-start="836">Ability to display branded materials at the event</p>\n	</li>\n	<li data-end="930" data-start="886">\n	<p data-end="930" data-start="888">Two complimentary non-member registrations</p>\n	</li>\n	<li data-end="981" data-start="931">\n	<p data-end="981" data-start="933">Post-event recognition in Chamber communications</p>\n	</li>\n</ul>\n\n<hr data-end="986" data-start="983" />\n<h3 data-end="1031" data-start="988" style="caret-color: rgb(0\, 0\, 0)\; color: rgb(0\, 0\, 0)\;">Supporting Sponsor &mdash\; $500 (2 Available)</h3>\n\n<p data-end="1138" data-start="1032" style="caret-color: rgb(0\, 0\, 0)\; color: rgb(0\, 0\, 0)\;">Demonstrate leadership and community engagement while gaining targeted exposure to local business leaders.</p>\n\n<p data-end="1153" data-start="1140" style="caret-color: rgb(0\, 0\, 0)\; color: rgb(0\, 0\, 0)\;"><strong data-end="1153" data-start="1140">Includes:</strong></p>\n\n<ul data-end="1400" data-start="1154" style="caret-color: rgb(0\, 0\, 0)\; color: rgb(0\, 0\, 0)\;">\n	<li data-end="1214" data-start="1154">\n	<p data-end="1214" data-start="1156">Logo recognition in event promotions and on the event page</p>\n	</li>\n	<li data-end="1254" data-start="1215">\n	<p data-end="1254" data-start="1217">Verbal recognition during the program</p>\n	</li>\n	<li data-end="1306" data-start="1255">\n	<p data-end="1306" data-start="1257">Ability to provide branded materials or giveaways</p>\n	</li>\n	<li data-end="1350" data-start="1307">\n	<p data-end="1350" data-start="1309">One complimentary non-member registration</p>\n	</li>\n	<li data-end="1400" data-start="1351">\n	<p data-end="1400" data-start="1353">Post-event recognition through Chamber channels</p>\n	</li>\n</ul>\n\n<hr data-end="1405" data-start="1402" />\n<h3 data-end="1455" data-start="1407" style="caret-color: rgb(0\, 0\, 0)\; color: rgb(0\, 0\, 0)\;">Community Partner Sponsor &mdash\; $250 (Unlimited)</h3>\n\n<p data-end="1546" data-start="1456" style="caret-color: rgb(0\, 0\, 0)\; color: rgb(0\, 0\, 0)\;">A simple\, accessible way to support innovation and business education in the Chino Valley.</p>\n\n<p data-end="1561" data-start="1548" style="caret-color: rgb(0\, 0\, 0)\; color: rgb(0\, 0\, 0)\;"><strong data-end="1561" data-start="1548">Includes:</strong></p>\n\n<ul data-end="1732" data-start="1562" style="caret-color: rgb(0\, 0\, 0)\; color: rgb(0\, 0\, 0)\;">\n	<li data-end="1601" data-start="1562">\n	<p data-end="1601" data-start="1564">Name recognition on the event webpage</p>\n	</li>\n	<li data-end="1632" data-start="1602">\n	<p data-end="1632" data-start="1604">Recognition in event signage</p>\n	</li>\n	<li data-end="1675" data-start="1633">\n	<p data-end="1675" data-start="1635">Verbal acknowledgment during the program</p>\n	</li>\n	<li data-end="1732" data-start="1676">\n	<p data-end="1732" data-start="1678">Post-event recognition in Chamber recap communications</p>\n	</li>\n</ul>\n
LOCATION:The Chino Valley Chamber of Commerce is conveniently located at: 13150 7th Street\, Chino\, CA 91710 The Chamber office offers a professional and welcoming setting for business-focused conversations and collaboration. Ample parking is available on-site and nearby\, making for easy access for attendees arriving from throughout the Chino Valley and surrounding Inland Empire communities. (Hybrid Options Can Be Made Available Upon Request)
UID:e.1511.8229
SEQUENCE:3
DTSTAMP:20260422T210217Z
URL:https://business.chinovalleychamber.com/events/details/how-government-actually-works-and-why-it-matters-for-your-business-with-nathan-stewart-innovation-council-8229
END:VEVENT

END:VCALENDAR
