BEGIN:VCALENDAR
VERSION:2.0
PRODID:-//ChamberMaster//Event Calendar 2.0//EN
METHOD:PUBLISH
X-PUBLISHED-TTL:P3D
REFRESH-INTERVAL:P3D
CALSCALE:GREGORIAN
BEGIN:VEVENT
DTSTART:20131213T030000Z
DTEND:20131213T050000Z
X-MICROSOFT-CDO-ALLDAYEVENT:FALSE
SUMMARY:Holiday Networking
DESCRIPTION:Holiday Networking - Chino Hills Business & Professionals Networking Group\n\n\n\nWho will be there?\n\nChino Hills Business & Professionals Networking Group\n\n\n\nMake a statement with your business sash!\n\nJoin as a Member for FREE at Meetup.com\n\n\n\nBring plenty of business cards to share! \n\nAll attendees will be entered in a drawing for The Pub Gift Card!
X-ALT-DESC;FMTTYPE=text/html:<span style="color:#ff0000\;">Holiday Networking</span> - Chino Hills Business &amp\; Professionals Networking Group<br />\n<br />\n<span style="color:#008000\;">Who will be there?</span><br />\nChino Hills Business &amp\; Professionals Networking Group<br />\n<br />\nMake a statement with your business sash!<br />\nJoin as a Member for FREE at Meetup.com<br />\n<br />\nBring plenty of business cards to share!&nbsp\;<br />\nAll attendees will be entered in a drawing for The Pub Gift Card!
LOCATION:The Pub 5771 Pine Avenue\, Chino Hills
UID:e.1511.490
SEQUENCE:3
DTSTAMP:20260421T181200Z
URL:https://business.chinovalleychamber.com/events/details/holiday-networking-12-12-2013-490
END:VEVENT

END:VCALENDAR
