BEGIN:VCALENDAR
VERSION:2.0
PRODID:-//ChamberMaster//Event Calendar 2.0//EN
METHOD:PUBLISH
X-PUBLISHED-TTL:P3D
REFRESH-INTERVAL:P3D
CALSCALE:GREGORIAN
BEGIN:VEVENT
DTSTART:20250113T190000Z
DTEND:20250113T210000Z
X-MICROSOFT-CDO-ALLDAYEVENT:FALSE
SUMMARY:HIRE Lunch n Learn
DESCRIPTION:Attend an exclusive Lunch & Learn hosted by the Chino Valley Chamber of Commerce.\n\nAt this informative session\, we will be unveiling our exciting New Hire Grant Programs\, designed to assist local businesses in attracting and retaining top talent while saving your company thousands in wages. Learn the benefits of becoming a second chance employer.
X-ALT-DESC;FMTTYPE=text/html:<div class="x_elementToProof" data-olk-copy-source="MessageBody" style="border: 0px\; font-variant-numeric: inherit\; font-variant-east-asian: inherit\; font-variant-alternates: inherit\; font-variant-position: inherit\; font-variant-emoji: inherit\; font-stretch: inherit\; font-size: 12pt\; line-height: inherit\; font-family: Aptos\, Aptos_EmbeddedFont\, Aptos_MSFontService\, Calibri\, Helvetica\, sans-serif\; font-optical-sizing: inherit\; font-size-adjust: inherit\; font-kerning: inherit\; font-feature-settings: inherit\; font-variation-settings: inherit\; margin: 0px\; padding: 0px\; vertical-align: baseline\; color: black\;">Attend an exclusive&nbsp\;<b>Lunch &amp\; Learn</b>&nbsp\;hosted by the Chino Valley Chamber of Commerce.</div>\n\n<div style="border: 0px\; font-variant-numeric: inherit\; font-variant-east-asian: inherit\; font-variant-alternates: inherit\; font-variant-position: inherit\; font-variant-emoji: inherit\; font-stretch: inherit\; font-size: 12pt\; line-height: inherit\; font-family: Aptos\, Aptos_EmbeddedFont\, Aptos_MSFontService\, Calibri\, Helvetica\, sans-serif\; font-optical-sizing: inherit\; font-size-adjust: inherit\; font-kerning: inherit\; font-feature-settings: inherit\; font-variation-settings: inherit\; margin: 1em 0px\; padding: 0px\; vertical-align: baseline\; color: black\;">At this informative session\, we will be unveiling our exciting&nbsp\;<b>New Hire Grant Programs</b>\, designed to assist local businesses in attracting and retaining top talent while saving your company thousands in wages. Learn the benefits of becoming a second chance employer.&nbsp\;</div>\n
LOCATION:13150 7th St\, Chino\, CA 91710
UID:e.1511.6494
SEQUENCE:3
DTSTAMP:20260420T090243Z
URL:https://business.chinovalleychamber.com/events/details/hire-lunch-n-learn-6494
END:VEVENT

END:VCALENDAR
