BEGIN:VCALENDAR
VERSION:2.0
PRODID:-//ChamberMaster//Event Calendar 2.0//EN
METHOD:PUBLISH
X-PUBLISHED-TTL:P3D
REFRESH-INTERVAL:P3D
CALSCALE:GREGORIAN
BEGIN:VEVENT
DTSTART:20131112T193000Z
DTEND:20131112T210000Z
X-MICROSOFT-CDO-ALLDAYEVENT:FALSE
SUMMARY:Healthcare Reform - The Affordable Care Act - What Every Employer Needs To Know
DESCRIPTION:A Healthcare Reform Luncheon You Can't Afford to Miss!\n\n\n\nCome learn what the law requires and how your business can most effectively comply with the "Affordable Care Act Legislation".
X-ALT-DESC;FMTTYPE=text/html:<span style="font-size:14px\;"><span style="color:#b22222\;"><strong>A Healthcare Reform Luncheon You Can&#39\;t Afford to Miss!</strong></span></span><br />\n<br />\n<span style="font-size:12px\;"><strong>Come learn what the law requires and how your business can most effectively comply with the &quot\;Affordable Care Act Legislation&quot\;.</strong></span><br />\n<br />\n
LOCATION:Centro Basco Restaurant 13432 S. Central Ave.\, Chino
UID:e.1511.460
SEQUENCE:3
DTSTAMP:20260421T210910Z
URL:https://business.chinovalleychamber.com/events/details/healthcare-reform-the-affordable-care-act-what-every-employer-needs-to-know-11-12-2013-460
END:VEVENT

END:VCALENDAR
