BEGIN:VCALENDAR
VERSION:2.0
PRODID:-//ChamberMaster//Event Calendar 2.0//EN
METHOD:PUBLISH
X-PUBLISHED-TTL:P3D
REFRESH-INTERVAL:P3D
CALSCALE:GREGORIAN
BEGIN:VEVENT
DTSTART:20131030T230000Z
DTEND:20131031T010000Z
X-MICROSOFT-CDO-ALLDAYEVENT:FALSE
SUMMARY:Harvest Festival - Heights Christian Schools - Chino Hills Preschool
DESCRIPTION:Harvest Festival - Heights Christian Schools - Chino Hills Preschool\n\n\n\nOpen to the Community\n\n\n\nPumpkin Patch\n\nPony Rides\n\nBouncers\n\nPhoto Booth Games & Crafts \n\nSnacks\n\n\n\n$50.00 off Registration with this Flyer!\n\nFor new families who register between October 30th - November 29\, 2013
X-ALT-DESC;FMTTYPE=text/html:<span style="font-size:14px\;"><span style="font-size:16px\;"><span style="color:#8b4513\;"><strong>Harvest Festival - Heights Christian Schools - Chino Hills Preschool</strong></span></span><br />\n<br />\n<span style="font-size:16px\;"><span style="color:#008000\;"><strong>Open to the Community</strong></span></span></span><br />\n<br />\n<span style="font-size:16px\;"><span style="color:#ffa500\;"><strong>Pumpkin Patch<br />\nPony Rides<br />\nBouncers<br />\nPhoto Booth Games &amp\; Crafts&nbsp\;<br />\nSnacks</strong></span><br />\n<br />\n<strong><span style="color:#b22222\;"><span style="font-family:verdana\;">$50.00 off Registration with this Flyer!<br />\nFor new families who register between October 30th&nbsp\;- November 29\, 2013&nbsp\;</span></span></strong></span>
LOCATION:Heights Christian Schools\, Chino Hills Preschool 2092 Chino Hills Parkway\, Chino Hills
UID:e.1511.446
SEQUENCE:3
DTSTAMP:20260421T223507Z
URL:https://business.chinovalleychamber.com/events/details/harvest-festival-heights-christian-schools-chino-hills-preschool-10-30-2013-446
END:VEVENT

END:VCALENDAR
