BEGIN:VCALENDAR
VERSION:2.0
PRODID:-//ChamberMaster//Event Calendar 2.0//EN
METHOD:PUBLISH
X-PUBLISHED-TTL:P3D
REFRESH-INTERVAL:P3D
CALSCALE:GREGORIAN
BEGIN:VEVENT
DTSTART;VALUE=DATE:20131121
DTEND;VALUE=DATE:20131122
TRANSP:TRANSPARENT
X-MICROSOFT-CDO-ALLDAYEVENT:TRUE
SUMMARY:Grand Opening - Ribbon Cutting - Tilted Kilt - Chino
DESCRIPTION:Come and join us for our Official Grand Opening - Ribbon Cutting Ceremony at the Tilted Kilt - Chino\n\n\n\nRibbon Cutting - 3:00 PM \n\n\n\nDoor Prizes - 2014 Kilt Girl Calendar Signing - November 21 - All Day\n\n\n\nLive Bagpipers -  Table Side Magician - Food and Drink Specials and More
X-ALT-DESC;FMTTYPE=text/html:<span style="font-family:verdana\;"><span style="color:#006400\;"><strong>Come and join us for our Official Grand Opening - Ribbon Cutting Ceremony at the Tilted Kilt - Chino</strong></span><br />\n<br />\n<strong><span style="color:#b22222\;">Ribbon Cutting - 3:00 PM&nbsp\;</span></strong></span><br />\n<br />\n<strong><span style="color:#daa520\;">Door Prizes - 2014 Kilt Girl Calendar Signing - November 21 - All Day</span><br />\n<br />\n<span style="color:#006400\;">Live Bagpipers - &nbsp\;Table Side Magician - Food and Drink Specials and More</span></strong>
LOCATION:Tilted Kilt 3919 Grand Ave.\, Chino
UID:e.1511.467
SEQUENCE:3
DTSTAMP:20260421T193902Z
URL:https://business.chinovalleychamber.com/events/details/grand-opening-ribbon-cutting-tilted-kilt-chino-11-21-2013-467
END:VEVENT

END:VCALENDAR
