BEGIN:VCALENDAR
VERSION:2.0
PRODID:-//ChamberMaster//Event Calendar 2.0//EN
METHOD:PUBLISH
X-PUBLISHED-TTL:P3D
REFRESH-INTERVAL:P3D
CALSCALE:GREGORIAN
BEGIN:VEVENT
DTSTART:20241208T230000Z
DTEND:20241209T010000Z
X-MICROSOFT-CDO-ALLDAYEVENT:FALSE
SUMMARY:Grand Opening & Ribbon Cutting - Purehead Spa
DESCRIPTION:Join us for the Grand Opening & Ribbon Cutting Ceremony for Purehead Spa in Chino Hills! Experience the ultimate in relaxation and rejuvenation as we celebrate our official launch with a ribbon-cutting ceremony. Enjoy complimentary refreshments\, exclusive grand opening offers and tours of our luxurious spa facility. Meet our expert team as we officially open our doors!
X-ALT-DESC;FMTTYPE=text/html:Join us for the Grand Opening &amp\; Ribbon Cutting Ceremony for Purehead Spa in Chino Hills! Experience the ultimate in relaxation and rejuvenation as we celebrate our official launch with a ribbon-cutting ceremony. Enjoy complimentary refreshments\, exclusive grand opening offers and tours of our luxurious spa facility. Meet our expert team as we officially open our doors!&nbsp\;
LOCATION:14270 Chino Hills Pkwy\, Ste E\, Chino Hills\, CA 91709
UID:e.1511.6489
SEQUENCE:3
DTSTAMP:20260420T071930Z
URL:https://business.chinovalleychamber.com/events/details/grand-opening-ribbon-cutting-purehead-spa-6489
END:VEVENT

END:VCALENDAR
