BEGIN:VCALENDAR
VERSION:2.0
PRODID:-//ChamberMaster//Event Calendar 2.0//EN
METHOD:PUBLISH
X-PUBLISHED-TTL:P3D
REFRESH-INTERVAL:P3D
CALSCALE:GREGORIAN
BEGIN:VEVENT
DTSTART:20250110T190000Z
DTEND:20250110T200000Z
X-MICROSOFT-CDO-ALLDAYEVENT:FALSE
SUMMARY:Grand Opening & Ribbon Cutting - Fix Auto Chino
DESCRIPTION:Join Us to celebrate the Grand Opening & Ribbon Cutting Ceremony for Fix Auto in Chino!
X-ALT-DESC;FMTTYPE=text/html:Join Us to celebrate the Grand Opening &amp\; Ribbon Cutting Ceremony for Fix Auto in Chino!&nbsp\;
LOCATION:Fix Auto - Chino 4510 Carter Court Chino\, CA 91710
UID:e.1511.6490
SEQUENCE:3
DTSTAMP:20260420T091358Z
URL:https://business.chinovalleychamber.com/events/details/grand-opening-ribbon-cutting-fix-auto-chino-6490
END:VEVENT

END:VCALENDAR
