BEGIN:VCALENDAR
VERSION:2.0
PRODID:-//ChamberMaster//Event Calendar 2.0//EN
METHOD:PUBLISH
X-PUBLISHED-TTL:P3D
REFRESH-INTERVAL:P3D
CALSCALE:GREGORIAN
BEGIN:VEVENT
DTSTART:20241204T200000Z
DTEND:20241204T220000Z
X-MICROSOFT-CDO-ALLDAYEVENT:FALSE
SUMMARY:Grand Opening & Ribbon Cutting: Boston's Pizza
DESCRIPTION:Please Join us as we celebrate the Grand Opening & Ribbon cutting for Boston's Pizza Restaurant & Sports Bar here in Chino!
X-ALT-DESC;FMTTYPE=text/html:Please Join us as we celebrate the Grand Opening &amp\; Ribbon cutting for Boston&#39\;s Pizza Restaurant &amp\; Sports Bar here in Chino!&nbsp\;
LOCATION:3968 Grand Avenue Chino\, CA 91710
UID:e.1511.6488
SEQUENCE:3
DTSTAMP:20260420T072047Z
URL:https://business.chinovalleychamber.com/events/details/grand-opening-ribbon-cutting-boston-s-pizza-6488
END:VEVENT

END:VCALENDAR
