BEGIN:VCALENDAR
VERSION:2.0
PRODID:-//ChamberMaster//Event Calendar 2.0//EN
METHOD:PUBLISH
X-PUBLISHED-TTL:P3D
REFRESH-INTERVAL:P3D
CALSCALE:GREGORIAN
BEGIN:VEVENT
DTSTART:20131010T000000Z
DTEND:20131010T020000Z
X-MICROSOFT-CDO-ALLDAYEVENT:FALSE
SUMMARY:Grand Opening - Ribbon Cutting
DESCRIPTION:You are invited to the Grand Opening of C2 Chino Hills\n\n\n\nPlease join us in celebrating the opening of a new C2 Education Center. We are excited to be a part of your community and look forward to meeting you!
X-ALT-DESC;FMTTYPE=text/html:You are invited to the Grand Opening of <strong><span style="font-size:14px\;"><span style="color:#800000\;">C2 </span>Chino Hills</span></strong><br />\n<br />\nPlease join&nbsp\;us in celebrating the opening of a new C2 Education Center. We are excited to be a part of your community and look forward to meeting you!
LOCATION:C2 Chino Hills 3626 Grand Avenue\, Chino Hills
UID:e.1511.439
SEQUENCE:3
DTSTAMP:20260421T211150Z
URL:https://business.chinovalleychamber.com/events/details/grand-opening-ribbon-cutting-10-09-2013-439
END:VEVENT

END:VCALENDAR
