BEGIN:VCALENDAR
VERSION:2.0
PRODID:-//ChamberMaster//Event Calendar 2.0//EN
METHOD:PUBLISH
X-PUBLISHED-TTL:P3D
REFRESH-INTERVAL:P3D
CALSCALE:GREGORIAN
BEGIN:VEVENT
DTSTART:20140515T230000Z
DTEND:20140516T020000Z
X-MICROSOFT-CDO-ALLDAYEVENT:FALSE
SUMMARY:Grand Opening - Pacifica Senior Living Hillsborough - Celebrating Our Newly Remodeled Community
DESCRIPTION:Pacifica Senior Living Hillsborough Cordially Invites You To Our Grand Opening Celebrating Our Newly Remodeled Community\n\n\n\nFeaturing:\n\n\n	 Elegant Dining Room\n	Grand Theater\n	Resident Bistro \n	"Transitions" Program\n\n Hors d'oeuvres\n\nSpirits\n\nEntertainment\n\nPrizes\n\nGiveaways
X-ALT-DESC;FMTTYPE=text/html:<br />\n<strong><span style="color:#4B0082\;">Pacifica Senior Living Hillsborough Cordially Invites You To Our Grand Opening Celebrating Our Newly Remodeled Community</span></strong><br />\n<br />\n<strong>Featuring:</strong>\n\n<ul>\n	<li><strong>&#8203\;Elegant Dining Room</strong></li>\n	<li><strong>Grand Theater</strong></li>\n	<li><strong>Resident Bistro&nbsp\;</strong></li>\n	<li><strong>&quot\;Transitions&quot\; Program</strong></li>\n</ul>\n<strong> <span style="color:#000080\;">Hors d&#39\;oeuvres<br />\nSpirits<br />\nEntertainment<br />\nPrizes<br />\nGiveaways</span></strong>
LOCATION:Pacifica Senior Living Hillsborough 11918 Central Avenue\, Chino
UID:e.1511.579
SEQUENCE:3
DTSTAMP:20260421T111359Z
URL:https://business.chinovalleychamber.com/events/details/grand-opening-pacifica-senior-living-hillsborough-celebrating-our-newly-remodeled-community-05-15-2014-579
END:VEVENT

END:VCALENDAR
