BEGIN:VCALENDAR
VERSION:2.0
PRODID:-//ChamberMaster//Event Calendar 2.0//EN
METHOD:PUBLISH
X-PUBLISHED-TTL:P3D
REFRESH-INTERVAL:P3D
CALSCALE:GREGORIAN
BEGIN:VEVENT
DTSTART;VALUE=DATE:20140115
DTEND;VALUE=DATE:20140116
TRANSP:TRANSPARENT
X-MICROSOFT-CDO-ALLDAYEVENT:TRUE
SUMMARY:Grand Opening - Jersey Mike's Subs
DESCRIPTION:Join Us For Our Grand Opening! \n\nJanuary 15-19\, 2014
X-ALT-DESC;FMTTYPE=text/html:<strong><span style="color:#ff0000\;"><span style="font-size:14px\;">Join Us For Our Grand Opening!&nbsp\;</span></span><br />\n<span style="color:#008080\;"><span style="font-size:14px\;">January 15-19\, 2014 </span></span><span style="color:#ff0000\;"><span style="font-size:14px\;">&nbsp\;</span></span></strong><br />\n<br />\n<br />\n
LOCATION:Jersey Mike's Subs 12152 Central Ave.\, Chino
UID:e.1511.508
SEQUENCE:3
DTSTAMP:20260421T182125Z
URL:https://business.chinovalleychamber.com/events/details/grand-opening-jersey-mike-s-subs-01-15-2014-508
END:VEVENT

END:VCALENDAR
