BEGIN:VCALENDAR
VERSION:2.0
PRODID:-//ChamberMaster//Event Calendar 2.0//EN
METHOD:PUBLISH
X-PUBLISHED-TTL:P3D
REFRESH-INTERVAL:P3D
CALSCALE:GREGORIAN
BEGIN:VEVENT
DTSTART:20250228T190000Z
DTEND:20250228T200000Z
X-MICROSOFT-CDO-ALLDAYEVENT:FALSE
SUMMARY:Grand Opening IKEA Ontario
DESCRIPTION:
X-ALT-DESC;FMTTYPE=text/html:
LOCATION:
UID:e.1511.6800
SEQUENCE:3
DTSTAMP:20260420T102759Z
URL:https://business.chinovalleychamber.com/events/details/grand-opening-ikea-ontario-6800
END:VEVENT

END:VCALENDAR
