BEGIN:VCALENDAR
VERSION:2.0
PRODID:-//ChamberMaster//Event Calendar 2.0//EN
METHOD:PUBLISH
X-PUBLISHED-TTL:P3D
REFRESH-INTERVAL:P3D
CALSCALE:GREGORIAN
BEGIN:VEVENT
DTSTART:20250213T180000Z
DTEND:20250213T190000Z
X-MICROSOFT-CDO-ALLDAYEVENT:FALSE
SUMMARY:Grand Opening - HMART Chino
DESCRIPTION:H-Mart Grand Opening: A Celebration for Chino Valley! We're thrilled to welcome H-Mart to our community! Join us for the Grand Opening and experience a diverse selection of Asian groceries\, fresh produce\, and more.
X-ALT-DESC;FMTTYPE=text/html:<strong>H-Mart Grand Opening: A Celebration for Chino Valley!</strong> We&#39\;re thrilled to welcome H-Mart to our community! Join us for the Grand Opening and experience a diverse selection of Asian groceries\, fresh produce\, and more.
LOCATION:3967 Grand Avenue Chino\, CA 91710
UID:e.1511.6526
SEQUENCE:3
DTSTAMP:20260421T081926Z
URL:https://business.chinovalleychamber.com/events/details/grand-opening-hmart-chino-6526
END:VEVENT

END:VCALENDAR
