BEGIN:VCALENDAR
VERSION:2.0
PRODID:-//ChamberMaster//Event Calendar 2.0//EN
METHOD:PUBLISH
X-PUBLISHED-TTL:P3D
REFRESH-INTERVAL:P3D
CALSCALE:GREGORIAN
BEGIN:VEVENT
DTSTART:20140215T190000Z
DTEND:20140216T010000Z
X-MICROSOFT-CDO-ALLDAYEVENT:FALSE
SUMMARY:Grand Opening - Blimpie - America's Sub Shop
DESCRIPTION:Come join us for the Grand Opening of Blimpie\, American's Sub Shop\n\nAny Regular Sub only $1.99 - valid February 15\, 2014 only
X-ALT-DESC;FMTTYPE=text/html:<span style="color:#008000\;"><span style="font-family:tahoma\;"><strong>Come join us for the Grand Opening of&nbsp\;</strong></span><strong style="font-family: tahoma\;">Blimpie<span style="font-size: 14px\;">\,</span> American&#39\;s Sub Shop</strong></span><br />\n<strong><span style="font-family:times new roman\;"><span style="color:#8b4513\;">Any Regular Sub only $1.99 - valid February 15\, 2014 only</span></span></strong>
LOCATION:Blimpie (Inside Walmart) 3943 Grand Ave.\, Chino
UID:e.1511.532
SEQUENCE:3
DTSTAMP:20260421T164716Z
URL:https://business.chinovalleychamber.com/events/details/grand-opening-blimpie-america-s-sub-shop-02-15-2014-532
END:VEVENT

END:VCALENDAR
