BEGIN:VCALENDAR
VERSION:2.0
PRODID:-//ChamberMaster//Event Calendar 2.0//EN
METHOD:PUBLISH
X-PUBLISHED-TTL:P3D
REFRESH-INTERVAL:P3D
CALSCALE:GREGORIAN
BEGIN:VEVENT
DTSTART;VALUE=DATE:20140925
DTEND;VALUE=DATE:20140926
TRANSP:TRANSPARENT
X-MICROSOFT-CDO-ALLDAYEVENT:TRUE
SUMMARY:Government Affairs Meeting "Pizza & Politics Luncheon" is Canceled It's Chino Day at the Fair - LACF Fair & Business Expo
DESCRIPTION:We are CANCELING Pizza & Politics this month.\n\nIt's "Chino Day at the Fair"\n\nLos Angeles County Fair & Business Expo
X-ALT-DESC;FMTTYPE=text/html:<strong style="font-size: 16px\; line-height: 17.066667556762695px\;"><span style="color:#000080\;">We are</span><span style="color: rgb(255\, 0\, 0)\;">&nbsp\;CANCELING&nbsp\;</span><span style="color:#000080\;">Pizza &amp\; Politics this month.</span><br />\n<span style="color: rgb(255\, 0\, 0)\;">It&#39\;s &quot\;Chino Day at the Fair&quot\;</span><br />\n<span style="color:#000080\;">Los Angeles County Fair &amp\; Business Expo</span></strong><br />\n<br />\n<br />\n<br />\n&nbsp\;
LOCATION:
UID:e.1511.642
SEQUENCE:3
DTSTAMP:20260419T115042Z
URL:https://business.chinovalleychamber.com/events/details/government-affairs-meeting-pizza-politics-luncheon-is-canceled-it-s-chino-day-at-the-fair-lacf-fair-business-expo-09-25-2014-642
END:VEVENT

END:VCALENDAR
