BEGIN:VCALENDAR
VERSION:2.0
PRODID:-//ChamberMaster//Event Calendar 2.0//EN
METHOD:PUBLISH
X-PUBLISHED-TTL:P3D
REFRESH-INTERVAL:P3D
CALSCALE:GREGORIAN
BEGIN:VEVENT
DTSTART:20140227T193000Z
DTEND:20140227T203000Z
X-MICROSOFT-CDO-ALLDAYEVENT:FALSE
SUMMARY:Government Affairs Meeting "Pizza & Politics Luncheon"
DESCRIPTION:Government Affairs Meeting\n\nPizza & Politics\n\n\n\nCome join us for FREE pizza and a chance to interact with legislators\, legislative representatives\, and utility company representatives about topics of interest to your business.\n\n\n\nThis is YOUR chance to ask questions and/or speak directly with these representatives. If you want to ask questions about what's going on and how it affects YOUR business\, please join us for lunch.
X-ALT-DESC;FMTTYPE=text/html:<strong><span style="font-size:16px\;">Government Affairs Meeting</span><br />\n<span style="font-size: 16px\;"><span style="color: rgb(255\, 0\, 0)\;">Pizza &amp\;&nbsp\;Politics</span></span></strong><br />\n<br />\n<span style="font-family:verdana\;"><span style="font-size:12px\;">Come join us for FREE pizza and a chance to interact with legislators\, legislative representatives\, and utility company representatives about topics of interest to your business.<br />\n<br />\nThis is YOUR chance to ask questions and/or speak directly with these representatives. If you want to ask questions about what&#39\;s going on and how it affects YOUR business\, please join us for lunch.</span></span>
LOCATION:Carolyn Owens Community Center Chino Business Resource Center/University Hall\, 2nd Floor 13201 Central Avenue\, Chino
UID:e.1511.529
SEQUENCE:3
DTSTAMP:20260421T153503Z
URL:https://business.chinovalleychamber.com/events/details/government-affairs-meeting-pizza-politics-luncheon-02-27-2014-529
END:VEVENT

END:VCALENDAR
