BEGIN:VCALENDAR
VERSION:2.0
PRODID:-//ChamberMaster//Event Calendar 2.0//EN
METHOD:PUBLISH
X-PUBLISHED-TTL:P3D
REFRESH-INTERVAL:P3D
CALSCALE:GREGORIAN
BEGIN:VEVENT
DTSTART:20140123T193000Z
DTEND:20140123T203000Z
X-MICROSOFT-CDO-ALLDAYEVENT:FALSE
SUMMARY:Government Affairs Meeting "Pizza & Politics Luncheon"
DESCRIPTION:Government Affairs Meeting\n\nPizza & Politics
X-ALT-DESC;FMTTYPE=text/html:<strong><span style="font-size: 14px\;">Government Affairs Meeting</span><br />\n<span style="font-size: 16px\;"><span style="color: rgb(255\, 0\, 0)\;">Pizza &amp\;&nbsp\;Politics&nbsp\;</span></span></strong>
LOCATION:Carolyn Owens Community Center Chino Business Resource Center/University Hall\, 2nd Floor 13201 Central Avenue\, Chino
UID:e.1511.507
SEQUENCE:3
DTSTAMP:20260421T182649Z
URL:https://business.chinovalleychamber.com/events/details/government-affairs-meeting-pizza-politics-luncheon-01-23-2014-507
END:VEVENT

END:VCALENDAR
