BEGIN:VCALENDAR
VERSION:2.0
PRODID:-//ChamberMaster//Event Calendar 2.0//EN
METHOD:PUBLISH
X-PUBLISHED-TTL:P3D
REFRESH-INTERVAL:P3D
CALSCALE:GREGORIAN
BEGIN:VEVENT
DTSTART:20131121T193000Z
DTEND:20131121T203000Z
X-MICROSOFT-CDO-ALLDAYEVENT:FALSE
SUMMARY:Government Affairs Committee Meeting "Pizza & Politics Luncheon"
DESCRIPTION:Government Affairs Committee Meeting\n\nPizza & Politics
X-ALT-DESC;FMTTYPE=text/html:<strong><span style="font-size:14px\;">Government Affairs Committee Meeting</span><br />\n<span style="font-size:16px\;"><span style="color:#ff0000\;">Pizza &amp\;</span> Politics&nbsp\;</span></strong><br />\n<br />\n
LOCATION:Chamber Office 13150 7th Street\, Chino
UID:e.1511.458
SEQUENCE:3
DTSTAMP:20260421T194340Z
URL:https://business.chinovalleychamber.com/events/details/government-affairs-committee-meeting-pizza-politics-luncheon-11-21-2013-458
END:VEVENT

END:VCALENDAR
