BEGIN:VCALENDAR
VERSION:2.0
PRODID:-//ChamberMaster//Event Calendar 2.0//EN
METHOD:PUBLISH
X-PUBLISHED-TTL:P3D
REFRESH-INTERVAL:P3D
CALSCALE:GREGORIAN
BEGIN:VEVENT
DTSTART:20131022T183000Z
DTEND:20131022T193000Z
X-MICROSOFT-CDO-ALLDAYEVENT:FALSE
SUMMARY:Government Affairs Committee Meeting "Pizza & Politics Luncheon"
DESCRIPTION:Government Affairs Committee Meeting  \n\n"Pizza & Politics Luncheon"
X-ALT-DESC;FMTTYPE=text/html:<span style="font-size:14px\;"><strong>Government Affairs Committee Meeting &nbsp\;<br />\n&quot\;Pizza &amp\; Politics Luncheon&quot\;</strong></span>
LOCATION:Chamber Office 13150 7th Street\, Chino
UID:e.1511.451
SEQUENCE:3
DTSTAMP:20260421T211915Z
URL:https://business.chinovalleychamber.com/events/details/government-affairs-committee-meeting-pizza-politics-luncheon-10-22-2013-451
END:VEVENT

END:VCALENDAR
