BEGIN:VCALENDAR
VERSION:2.0
PRODID:-//ChamberMaster//Event Calendar 2.0//EN
METHOD:PUBLISH
X-PUBLISHED-TTL:P3D
REFRESH-INTERVAL:P3D
CALSCALE:GREGORIAN
BEGIN:VEVENT
DTSTART;VALUE=DATE:20131130
DTEND;VALUE=DATE:20131201
TRANSP:TRANSPARENT
X-MICROSOFT-CDO-ALLDAYEVENT:TRUE
SUMMARY:Get Ready for Small Business Saturday - Support Local Businesses Shop Locally Today
DESCRIPTION:Small Business Saturday - Sponsored in the Chino Valley by Champion Newspapers\n\n\n\nFounded by American Express in 2010\, this day is dedicated to supporting local businesses that help neighborhoods prosper. It's celebrated every year on the Saturday after Thanksgiving and has given small businesses across the country a huge boost.\n\n\n\nImagine what will happen when your entire neighborhood comes together to support the businesses they love. Join the movement and make Small Business Saturday huge for your business - and your neighborhood.
X-ALT-DESC;FMTTYPE=text/html:<span style="font-size:12px\;"><span style="font-family:tahoma\;"><strong><span style="color:#000080\;"><span style="font-size:14px\;">Small Business Saturday - Sponsored in the Chino Valley by Champion Newspapers</span></span></strong><br />\n<br />\nFounded by American Express in 2010\, this day is dedicated to supporting local businesses that help neighborhoods prosper. It&#39\;s celebrated every year on the Saturday after Thanksgiving and has given small businesses across the country a huge boost.<br />\n<br />\nImagine what will happen when your entire neighborhood comes together to support the businesses they love. Join the movement and make Small&nbsp\;Business Saturday huge for your business - and your neighborhood.</span></span>
LOCATION:Get Started today - Visit ShopSmall.com/USSPI today.
UID:e.1511.466
SEQUENCE:3
DTSTAMP:20260421T210948Z
URL:https://business.chinovalleychamber.com/events/details/get-ready-for-small-business-saturday-support-local-businesses-shop-locally-today-11-30-2013-466
END:VEVENT

END:VCALENDAR
