BEGIN:VCALENDAR
VERSION:2.0
PRODID:-//ChamberMaster//Event Calendar 2.0//EN
METHOD:PUBLISH
X-PUBLISHED-TTL:P3D
REFRESH-INTERVAL:P3D
CALSCALE:GREGORIAN
BEGIN:VEVENT
DTSTART;VALUE=DATE:20130531
DTEND;VALUE=DATE:20130602
TRANSP:TRANSPARENT
X-MICROSOFT-CDO-ALLDAYEVENT:TRUE
SUMMARY:Friends of Steve McQueen Car and Motorcycle Show 2013
DESCRIPTION:The Friends of Steve McQueen Car & Motorcycle Show\n\nCelebrating the Classic 1963 Film: The Great Escape
X-ALT-DESC;FMTTYPE=text/html:The Friends of Steve McQueen Car &amp\; Motorcycle Show<br />\nCelebrating the Classic 1963 Film: <em>The Great Escape</em>
LOCATION:Boys Republic Campus 1907 Boys Republic Drive\, Chino Hills\, CA
UID:e.1511.311
SEQUENCE:3
DTSTAMP:20260422T025115Z
URL:https://business.chinovalleychamber.com/events/details/friends-of-steve-mcqueen-car-and-motorcycle-show-2013-05-31-2013-311
END:VEVENT

END:VCALENDAR
