BEGIN:VCALENDAR
VERSION:2.0
PRODID:-//ChamberMaster//Event Calendar 2.0//EN
METHOD:PUBLISH
X-PUBLISHED-TTL:P3D
REFRESH-INTERVAL:P3D
CALSCALE:GREGORIAN
BEGIN:VEVENT
DTSTART:20140509T150000Z
DTEND:20140510T000000Z
X-MICROSOFT-CDO-ALLDAYEVENT:FALSE
SUMMARY:Friends of Ontario Airport 24th Annual Golf Tournament
DESCRIPTION:Lights\, Camera\, Action   FORE! Golf with the stars at the Friends of Ontario Airport's 24th annual golf tournament being held on Friday\, May 9th. The red carpet is rolled out and the paparazzi are waiting with cameras in hand\, at the Sierra Lakes Golf Club in Fontana. While celebrating "Hollywood Style" you may encounter a glimpse of one of your favorite movie stars as you hook and slice over the hills\, and attempt to avoid the lakes on the course with your shot at winning the "Oscar." It's sure to be a Gala you won't want to miss. \n\nReserve your seat right away before the director yells action! This year's tournament will once again benefit the USO Ontario\, Travelers Aid of the Inland Empire\, as well as help support ONT's educational outreach programs for disadvantaged students. If you are interested in participating as a sponsor\, golfer\, or both\, please contact the ONT Community and Public Relations Office at (909) 544-5360 or by email at ONTAirportRep@lawa.org.
X-ALT-DESC;FMTTYPE=text/html:<strong><span style="font-size: 12pt\;"><span style="font-family: arial\,sans-serif\;"><span style="color: red\;">Lights\, Camera\, Action&hellip\;</span></span></span></strong>&nbsp\; <span style="font-size: 10pt\;"><span style="font-family: arial\,sans-serif\;"><span style="color: rgb(51\, 51\, 51)\;">FORE! Golf with the stars at the Friends of Ontario Airport&#39\;s 24th</span> annual golf tournament being held on Friday\, May 9th</span>. The red carpet is rolled out and the paparazzi are waiting with cameras in hand\, at the Sierra Lakes Golf Club in Fontana. While celebrating &ldquo\;Hollywood Style&rdquo\; you may encounter a glimpse of one of your favorite movie stars as you hook and slice over the hills\, and attempt to avoid the lakes on the course with your shot at winning the &ldquo\;Oscar.&rdquo\; It&rsquo\;s sure to be a Gala you won&rsquo\;t want to miss. </span><br />\n<span style="font-size: 10pt\;"><span style="font-family: arial\,sans-serif\;"><span style="color: rgb(51\, 51\, 51)\;">Reserve your seat right away before the director yells action! This year&rsquo\;s tournament will once again benefit the USO</span> Ontario\, Travelers Aid of the Inland Empire\, as well as help support ONT&rsquo\;s educational outreach programs for disadvantaged students. If you are interested in participating as a sponsor\, golfer\, or both\, please contact the ONT Community and Public Relations Office at (909) 544-5360 or by email at ONTAirportRep@lawa.org.</span></span><br />\n&nbsp\;
LOCATION:16600 Clubhouse Dr.\, Fontana\, CA 92336
UID:e.1511.547
SEQUENCE:3
DTSTAMP:20260421T124524Z
URL:https://business.chinovalleychamber.com/events/details/friends-of-ontario-airport-24th-annual-golf-tournament-05-09-2014-547
END:VEVENT

END:VCALENDAR
