BEGIN:VCALENDAR
VERSION:2.0
PRODID:-//ChamberMaster//Event Calendar 2.0//EN
METHOD:PUBLISH
X-PUBLISHED-TTL:P3D
REFRESH-INTERVAL:P3D
CALSCALE:GREGORIAN
BEGIN:VEVENT
DTSTART:20140112T180000Z
DTEND:20140113T050000Z
X-MICROSOFT-CDO-ALLDAYEVENT:FALSE
SUMMARY:FRIENDS & FAMILY SAVINGS EVENT
DESCRIPTION:1 DAY EVENT ONLY!!!\n\n	Save Up to 20% off on all Kenmore Appliances\, Plus extra 10% Friends & Family Discount Coupon PLUS extra 5% w/t Sears Card or 12 Months Special Financing on (\n\n	all appliances $499 and above)
X-ALT-DESC;FMTTYPE=text/html:<p>\n	1 DAY EVENT ONLY!!!</p>\n<p>\n	Save Up to 20% off on all Kenmore Appliances\, Plus extra 10% Friends &amp\; Family Discount Coupon PLUS extra 5% w/t Sears Card or 12 Months Special Financing on (</p>\n<p>\n	all appliances $499 and above)</p>\n
LOCATION:Sears Home Appliance Showroom- Chino
UID:e.1511.504
SEQUENCE:3
DTSTAMP:20260421T165018Z
URL:https://business.chinovalleychamber.com/events/details/friends-family-savings-event-01-12-2014-504
END:VEVENT

END:VCALENDAR
