BEGIN:VCALENDAR
VERSION:2.0
PRODID:-//ChamberMaster//Event Calendar 2.0//EN
METHOD:PUBLISH
X-PUBLISHED-TTL:P3D
REFRESH-INTERVAL:P3D
CALSCALE:GREGORIAN
BEGIN:VEVENT
DTSTART:20131009T200000Z
DTEND:20131009T220000Z
X-MICROSOFT-CDO-ALLDAYEVENT:FALSE
SUMMARY:Free Business Growth Seminar
DESCRIPTION:Free Business Growth Seminar\n\n\n\nAccelerate Growth\, Sales Profits and Build Value\n\nSponsored by CEO Advisor of Inland Empire\n\n\n\nFor CEO's\, Presidents and Business Owners Only!\n\n\n\nUpon completion of the seminar\, a $100.00 gift certificate will be awarded to one attendee. Sign up for CEO Advisor's affordable\, hands on business advisory services by October 25th and receive a $250.00 rebate on the first month's services
X-ALT-DESC;FMTTYPE=text/html:<span style="font-size:14px\;"><strong>Free Business Growth Seminar<br />\n<br />\nAccelerate Growth\, Sales Profits and Build Value<br />\nSponsored by CEO Advisor of Inland Empire<br />\n<br />\nFor CEO&#39\;s\, Presidents and Business Owners Only!</strong></span><br />\n<br />\n<strong>Upon completion of the seminar\, a $100.00 gift certificate will be awarded to one attendee. Sign up for CEO Advisor&#39\;s affordable\, hands on business advisory services by October&nbsp\;25th&nbsp\;and receive a $250.00 rebate on the first month&#39\;s services</strong>
LOCATION:15338 Central Ave.\, Chino
UID:e.1511.444
SEQUENCE:3
DTSTAMP:20260421T223144Z
URL:https://business.chinovalleychamber.com/events/details/free-business-growth-seminar-10-09-2013-444
END:VEVENT

END:VCALENDAR
