BEGIN:VCALENDAR
VERSION:2.0
PRODID:-//ChamberMaster//Event Calendar 2.0//EN
METHOD:PUBLISH
X-PUBLISHED-TTL:P3D
REFRESH-INTERVAL:P3D
CALSCALE:GREGORIAN
BEGIN:VEVENT
DTSTART:20130929T010000Z
DTEND:20130929T030000Z
X-MICROSOFT-CDO-ALLDAYEVENT:FALSE
SUMMARY:FASHION BASH - SHOP 4 YOUR HIGH SCHOOL
DESCRIPTION:Join us for FASHION BASH  SHOP 4 YOUR HIGH SCHOOL\n\nFashions modeled by members of The Shoppes Fashion Council and representatives from local high schools.\n\n\n\nEveryone attending Fashion Bash will have the opportunity to win Shoppes Gift Cards.\n\n\n\nEnjoy performances by the Chino Hills High Drum Line and Give Up The Junk\, starting at 6:00 PM\n\n\n\nShopping to Win $$$ for Local Schools - Winners announced during Fashion Bash\n\nAyala High\n\nChino High\n\nChino Hills High\n\nDon Lugo High
X-ALT-DESC;FMTTYPE=text/html:Join us for <strong><span style="color:#0000cd\;">FASHION BASH &nbsp\;</span>SHOP <span style="color:#ff0000\;">4</span><span style="color:#0000cd\;"> </span>YOUR HIGH SCHOOL</strong><br />\nFashions modeled by members of The Shoppes Fashion Council and representatives from local high schools.<br />\n<br />\nEveryone attending Fashion Bash will have the opportunity to win Shoppes Gift Cards.<br />\n<br />\nEnjoy performances by the Chino Hills High Drum Line and Give Up The Junk\, starting at 6:00 PM<br />\n<br />\nShopping to Win $$$ for Local Schools -&nbsp\;Winners announced during Fashion Bash<br />\nAyala High<br />\nChino High<br />\nChino Hills High<br />\nDon Lugo High
LOCATION:The Shoppes at Chino Hills 13920 City Center Drive\, Chino Hills
UID:e.1511.429
SEQUENCE:3
DTSTAMP:20260421T235437Z
URL:https://business.chinovalleychamber.com/events/details/fashion-bash-shop-4-your-high-school-09-28-2013-429
END:VEVENT

END:VCALENDAR
