BEGIN:VCALENDAR
VERSION:2.0
PRODID:-//ChamberMaster//Event Calendar 2.0//EN
METHOD:PUBLISH
X-PUBLISHED-TTL:P3D
REFRESH-INTERVAL:P3D
CALSCALE:GREGORIAN
BEGIN:VEVENT
DTSTART:20130830T233000Z
DTEND:20130831T013000Z
X-MICROSOFT-CDO-ALLDAYEVENT:FALSE
SUMMARY:Eye Level - Movie Night
DESCRIPTION:EYE LEVEL - Movie Night!\n\n\n\n(Bring A friend and enter to win a $10.00 Yogurtland gift card!)
X-ALT-DESC;FMTTYPE=text/html:<strong><span style="color: rgb(0\, 128\, 0)\;">EYE LEVEL -&nbsp\;Movie Night!</span></strong><br />\n<br />\n<em><span style="color: rgb(165\, 42\, 42)\;">(Bring A friend and enter to win a $10.00 Yogurtland gift card!)</span></em><br />\n<br />\n
LOCATION:Eye Level Learning Center of Chino Hills 14230 Chino Hills Pkwy.\, Suite G Chino Hills
UID:e.1511.415
SEQUENCE:3
DTSTAMP:20260422T011646Z
URL:https://business.chinovalleychamber.com/events/details/eye-level-movie-night-08-30-2013-415
END:VEVENT

END:VCALENDAR
