BEGIN:VCALENDAR
VERSION:2.0
PRODID:-//ChamberMaster//Event Calendar 2.0//EN
METHOD:PUBLISH
X-PUBLISHED-TTL:P3D
REFRESH-INTERVAL:P3D
CALSCALE:GREGORIAN
BEGIN:VEVENT
DTSTART:20140227T023000Z
DTEND:20140227T040000Z
X-MICROSOFT-CDO-ALLDAYEVENT:FALSE
SUMMARY:Every Women's Journey - Your Pathway to Health
DESCRIPTION:Every Woman's Journey - Your Pathway to Health - Know Your Numbers\n\n\n\nLike knowing the 14th is Valentines Day\, we must also know additional numbers when we talk about heart health. Knowing your numbers is an essential component in the preservation\, reduction and management of heart disease!\n\n\n\nPresented by\, Deborah Keasler\, RN\, Director of Stead Heart and Vascular Center
X-ALT-DESC;FMTTYPE=text/html:<br />\n<span style="color:#b22222\;"><strong>Every Woman&#39\;s Journey - Your Pathway to Health -&nbsp\;Know Your Numbers</strong></span><br />\n<br />\n<strong><span style="color:#8b4513\;">Like knowing the 14th is Valentines Day\, we must also know additional numbers when we talk about heart health. Knowing your numbers is an essential component in the preservation\, reduction and management of heart disease!</span></strong><br />\n<br />\n<span style="color:#b22222\;"><strong>Presented by\, Deborah Keasler\, RN\, Director of Stead Heart and Vascular Center</strong></span>
LOCATION:Pomona Valley Health Center 2140 Grand Ave.\, Chino Hills
UID:e.1511.525
SEQUENCE:3
DTSTAMP:20260421T152700Z
URL:https://business.chinovalleychamber.com/events/details/every-women-s-journey-your-pathway-to-health-02-26-2014-525
END:VEVENT

END:VCALENDAR
