BEGIN:VCALENDAR
VERSION:2.0
PRODID:-//ChamberMaster//Event Calendar 2.0//EN
METHOD:PUBLISH
X-PUBLISHED-TTL:P3D
REFRESH-INTERVAL:P3D
CALSCALE:GREGORIAN
BEGIN:VEVENT
DTSTART:20130228T023000Z
DTEND:20130228T023000Z
X-MICROSOFT-CDO-ALLDAYEVENT:FALSE
SUMMARY:Every Women's Journey
DESCRIPTION:Your pathway to health. An introduction to the Art of Living. Reduce stress\, rejuvenate\, feel happier and younger.
X-ALT-DESC;FMTTYPE=text/html:<p>\n	Your pathway to health. An introduction to the Art of Living. Reduce stress\, rejuvenate\, feel happier and younger.</p>\n
LOCATION:Pomona Valley Health Center 2140 Grand Ave.\, Chino Hills\, CA 91709
UID:e.1511.7
SEQUENCE:3
DTSTAMP:20260422T085002Z
URL:https://business.chinovalleychamber.com/events/details/every-women-s-journey-02-27-2013-7
END:VEVENT

END:VCALENDAR
