BEGIN:VCALENDAR
VERSION:2.0
PRODID:-//ChamberMaster//Event Calendar 2.0//EN
METHOD:PUBLISH
X-PUBLISHED-TTL:P3D
REFRESH-INTERVAL:P3D
CALSCALE:GREGORIAN
BEGIN:VEVENT
DTSTART:20130523T013000Z
DTEND:20130523T013000Z
X-MICROSOFT-CDO-ALLDAYEVENT:FALSE
SUMMARY:Every Woman's Journey - Your Pathway to Health\, How to Save a Life!
DESCRIPTION:Every Woman's Journey
X-ALT-DESC;FMTTYPE=text/html:Every Woman&#39\;s Journey
LOCATION:Pomona Valley Health Center 2140 Grand Ave.\, Chino Hills
UID:e.1511.323
SEQUENCE:3
DTSTAMP:20260422T060100Z
URL:https://business.chinovalleychamber.com/events/details/every-woman-s-journey-your-pathway-to-health-how-to-save-a-life-05-22-2013-323
END:VEVENT

END:VCALENDAR
