BEGIN:VCALENDAR
VERSION:2.0
PRODID:-//ChamberMaster//Event Calendar 2.0//EN
METHOD:PUBLISH
X-PUBLISHED-TTL:P3D
REFRESH-INTERVAL:P3D
CALSCALE:GREGORIAN
BEGIN:VEVENT
DTSTART:20131031T013000Z
DTEND:20131031T023000Z
X-MICROSOFT-CDO-ALLDAYEVENT:FALSE
SUMMARY:Every Woman's Journey - Your Pathway to Health
DESCRIPTION:Healthy Weight - Healthy Heart -  Presented by Nancee Perez\, RD.\n\n\n\nDiscover the connection between weight management\, a healthy heart\, and diabetes risk reduction through healthy nutrition habits. \n\n\n\nWhether you seek new information or simply want to re-enforce healthy choices\, nutrition tips for everyday life will be uncovered.
X-ALT-DESC;FMTTYPE=text/html:<strong><span style="color:#8b4513\;">Healthy&nbsp\;Weight - Healthy Heart - &nbsp\;Presented by Nancee Perez\, RD.</span></strong><br />\n<br />\n<strong>Discover the connection between weight management\, a healthy heart\, and diabetes risk reduction through healthy nutrition habits.&nbsp\;<br />\n<br />\nWhether you seek new information or simply want to re-enforce healthy choices\, nutrition tips for everyday life will be uncovered.&nbsp\;</strong>
LOCATION:Pomona Valley Health Center 2140 Grand Ave.\, Chino Hills
UID:e.1511.436
SEQUENCE:3
DTSTAMP:20260421T223420Z
URL:https://business.chinovalleychamber.com/events/details/every-woman-s-journey-your-pathway-to-health-10-30-2013-436
END:VEVENT

END:VCALENDAR
