BEGIN:VCALENDAR
VERSION:2.0
PRODID:-//ChamberMaster//Event Calendar 2.0//EN
METHOD:PUBLISH
X-PUBLISHED-TTL:P3D
REFRESH-INTERVAL:P3D
CALSCALE:GREGORIAN
BEGIN:VEVENT
DTSTART:20130918T170000Z
DTEND:20130918T190000Z
X-MICROSOFT-CDO-ALLDAYEVENT:FALSE
SUMMARY:Employer Forum Series - "Wage and Hour Laws"
DESCRIPTION:San Bernardino County Workforce Investment Board and Business Connections\n\n\n\nEmployer Forum Series\n\nTopic: "Wage and Hour Laws"
X-ALT-DESC;FMTTYPE=text/html:<strong><span style="color: rgb(255\, 140\, 0)\;">San Bernardino County Workforce Investment Board and Business Connections</span><br />\n<br />\nEmployer Forum Series<br />\n<span style="font-family: tahoma\;">Topic: <span style="color: rgb(178\, 34\, 34)\;">&quot\;Wage and Hour Laws&quot\;</span></span></strong>
LOCATION:East Valley Employment Resource Center 658 E. Brier Drive\, Suite 100\, San Bernardino
UID:e.1511.417
SEQUENCE:3
DTSTAMP:20260421T223248Z
URL:https://business.chinovalleychamber.com/events/details/employer-forum-series-wage-and-hour-laws-09-18-2013-417
END:VEVENT

END:VCALENDAR
