BEGIN:VCALENDAR
VERSION:2.0
PRODID:-//ChamberMaster//Event Calendar 2.0//EN
METHOD:PUBLISH
X-PUBLISHED-TTL:P3D
REFRESH-INTERVAL:P3D
CALSCALE:GREGORIAN
BEGIN:VEVENT
DTSTART:20131113T180000Z
DTEND:20131113T200000Z
X-MICROSOFT-CDO-ALLDAYEVENT:FALSE
SUMMARY:Employer Forum Series - "How to Deliver Excellent Customer Service"
DESCRIPTION:San Bernardino County Workforce Investment Board Business Connections\n\n\n\nEmployer Forum Series \n\nTopic: "How to Deliver Excellent Customer Service"
X-ALT-DESC;FMTTYPE=text/html:<strong><span style="color: rgb(218\, 165\, 32)\;">San Bernardino County Workforce Investment Board Business Connections</span></strong><br />\n<br />\n<strong>Employer Forum Series</strong>&nbsp\;<br />\n<strong>Topic: <span style="color: rgb(165\, 42\, 42)\;">&quot\;How to Deliver Excellent Customer Service&quot\;</span></strong>
LOCATION:West End Employment Resource Center 9650 9th Street\, Suite A\, Rancho Cucamonga
UID:e.1511.418
SEQUENCE:3
DTSTAMP:20260421T194055Z
URL:https://business.chinovalleychamber.com/events/details/employer-forum-series-how-to-deliver-excellent-customer-service-11-13-2013-418
END:VEVENT

END:VCALENDAR
