BEGIN:VCALENDAR
VERSION:2.0
PRODID:-//ChamberMaster//Event Calendar 2.0//EN
METHOD:PUBLISH
X-PUBLISHED-TTL:P3D
REFRESH-INTERVAL:P3D
CALSCALE:GREGORIAN
BEGIN:VEVENT
DTSTART:20130301T010000Z
DTEND:20130301T030000Z
X-MICROSOFT-CDO-ALLDAYEVENT:FALSE
SUMMARY:Edward Jones Networking & Open House
DESCRIPTION:Business Owners Free Networking & Open House: to honor local business owners and other business leaders to celebrate their contributions in the community.
X-ALT-DESC;FMTTYPE=text/html:<p>\n	Business Owners Free Networking &amp\; Open House: to honor local business owners and other business leaders&nbsp\;to celebrate their contributions in the community.</p>\n
LOCATION:Edward Jones Scott Forties\, Financial Advisor 3560 Grand Avenue Suite M Chino Hills\, CA 91709
UID:e.1511.16
SEQUENCE:3
DTSTAMP:20260422T084912Z
URL:https://business.chinovalleychamber.com/events/details/edward-jones-networking-open-house-02-28-2013-16
END:VEVENT

END:VCALENDAR
