BEGIN:VCALENDAR
VERSION:2.0
PRODID:-//ChamberMaster//Event Calendar 2.0//EN
METHOD:PUBLISH
X-PUBLISHED-TTL:P3D
REFRESH-INTERVAL:P3D
CALSCALE:GREGORIAN
BEGIN:VEVENT
DTSTART:20131122T003000Z
DTEND:20131122T033000Z
X-MICROSOFT-CDO-ALLDAYEVENT:FALSE
SUMMARY:CVCC Monthly Mixer - Chino Airport - Business Park
DESCRIPTION:2nd Time Ever - Chino Valley & Eastvale Chambers \n\nJoint Mixer & Open House at the Chino Airport - Business Park\n\n\n\nDiscover what makes Chino Airport one of the premier general aviation (GA) airports and business destinations in the country:\n\n	\n		Tours of the airport's inner-workings.\n	\n		Explore multi-million dollar executive jets.\n	\n		Discover the world of aviation from the inside out.\n	\n		See how Chino Airport can benefit you and your family.
X-ALT-DESC;FMTTYPE=text/html:<span style="font-size: 14.399999618530273px\;"><span style="color:#000080\;"><strong>2nd Time Ever - Chino Valley &amp\; Eastvale Chambers&nbsp\;</strong></span><br />\n<span style="color:#008080\;"><strong>Joint Mixer &amp\; Open House at the Chino Airport - Business Park</strong></span></span><br />\n<br />\n<span style="font-size:12px\;">Discover what makes Chino Airport one of the premier general aviation (GA) airports and business destinations in the country:</span>\n<ul>\n	<li>\n		<span style="font-size:12px\;">Tours of the airport&#39\;s inner-workings.</span></li>\n	<li>\n		<span style="font-size:12px\;">Explore multi-million dollar executive jets.</span></li>\n	<li>\n		<span style="font-size:12px\;">Discover the world of aviation from the inside out.</span></li>\n	<li>\n		<span style="font-size:12px\;">See how Chino Airport can benefit you and your family.</span></li>\n</ul>\n<br />\n
LOCATION:Event Location: Threshold Aviation Group 8352 Kimball Ave.\, F-350\, Chino CA 91708
UID:e.1511.453
SEQUENCE:3
DTSTAMP:20260421T194106Z
URL:https://business.chinovalleychamber.com/events/details/cvcc-monthly-mixer-chino-airport-business-park-11-21-2013-453
END:VEVENT

END:VCALENDAR
