BEGIN:VCALENDAR
VERSION:2.0
PRODID:-//ChamberMaster//Event Calendar 2.0//EN
METHOD:PUBLISH
X-PUBLISHED-TTL:P3D
REFRESH-INTERVAL:P3D
CALSCALE:GREGORIAN
BEGIN:VEVENT
DTSTART:20140725T000000Z
DTEND:20140725T020000Z
X-MICROSOFT-CDO-ALLDAYEVENT:FALSE
SUMMARY:CVCC Monthly Mixer - Apollo Insurance Services
DESCRIPTION:CVCC Monthly Mixer - Apollo Insurance Services\n\n\n\nPlease join us for our Open House & Anniversary Party\n\n\n\nClick Here to View Full-Size PDF
X-ALT-DESC;FMTTYPE=text/html:<strong><span style="color:#006400\;">&nbsp\;<br />\n&nbsp\;</span><span style="color:#000080\;">CVCC Monthly Mixer -&nbsp\;Apollo Insurance Services<br />\n<br />\nPlease join us for our Open House &amp\; Anniversary Party</span></strong><br />\n<br />\n<a href="http://cloud.chambermaster.com/userfiles/UserFiles/chambers/1511/File/Open-House-Anniversary-Flyer12.jpg"><span style="color:#0000CD\;">Click Here to View Full-Size PDF</span></a><br />\n&nbsp\;
LOCATION:Apollo Insurance Services 13920 City Center Drive.\, Ste. 220\, Chino Hills (The Shoppes)
UID:e.1511.608
SEQUENCE:3
DTSTAMP:20260419T132707Z
URL:https://business.chinovalleychamber.com/events/details/cvcc-monthly-mixer-apollo-insurance-services-07-24-2014-608
END:VEVENT

END:VCALENDAR
