BEGIN:VCALENDAR
VERSION:2.0
PRODID:-//ChamberMaster//Event Calendar 2.0//EN
METHOD:PUBLISH
X-PUBLISHED-TTL:P3D
REFRESH-INTERVAL:P3D
CALSCALE:GREGORIAN
BEGIN:VEVENT
DTSTART:20131018T000000Z
DTEND:20131018T020000Z
X-MICROSOFT-CDO-ALLDAYEVENT:FALSE
SUMMARY:CVCC Monthly Mixer
DESCRIPTION:CVCC Mixer @ HearUSA
X-ALT-DESC;FMTTYPE=text/html:<span style="font-size:14px\;"><span style="color:#800000\;"><strong>CVCC Mixer @ HearUSA</strong></span></span>
LOCATION:HearUSA 3920 Grand Ave.\, Suite E\, Chino
UID:e.1511.407
SEQUENCE:3
DTSTAMP:20260421T210431Z
URL:https://business.chinovalleychamber.com/events/details/cvcc-monthly-mixer-10-17-2013-407
END:VEVENT

END:VCALENDAR
