BEGIN:VCALENDAR
VERSION:2.0
PRODID:-//ChamberMaster//Event Calendar 2.0//EN
METHOD:PUBLISH
X-PUBLISHED-TTL:P3D
REFRESH-INTERVAL:P3D
CALSCALE:GREGORIAN
BEGIN:VEVENT
DTSTART:20130920T000000Z
DTEND:20130920T020000Z
X-MICROSOFT-CDO-ALLDAYEVENT:FALSE
SUMMARY:CVCC Monthly Mixer
DESCRIPTION:The Chino Valley Chamber of Commerce Presents - Chino Valley Chamber Ambassador Mixer @ The Chino Youth Museum
X-ALT-DESC;FMTTYPE=text/html:<span style="color: rgb(0\, 128\, 128)\;"><strong><span style="font-family: comic sans ms\;">The Chino Valley Chamber of Commerce Presents </span></strong></span><span style="color: rgb(0\, 0\, 205)\;"><strong><span style="font-family: comic sans ms\;">-</span></strong></span><span style="color: rgb(0\, 128\, 128)\;"><strong> </strong></span><span style="color: rgb(165\, 42\, 42)\;"><strong>Chino Valley Chamber Ambassador Mixer </strong></span><span style="color: rgb(0\, 128\, 128)\;"><strong>@ </strong></span><span style="color: rgb(0\, 128\, 0)\;"><strong>The Chino Youth Museum</strong></span>
LOCATION:Chino Youth Museum 13191 6th St.\, Chino
UID:e.1511.408
SEQUENCE:3
DTSTAMP:20260421T223058Z
URL:https://business.chinovalleychamber.com/events/details/cvcc-monthly-mixer-09-19-2013-408
END:VEVENT

END:VCALENDAR
