BEGIN:VCALENDAR
VERSION:2.0
PRODID:-//ChamberMaster//Event Calendar 2.0//EN
METHOD:PUBLISH
X-PUBLISHED-TTL:P3D
REFRESH-INTERVAL:P3D
CALSCALE:GREGORIAN
BEGIN:VEVENT
DTSTART:20130816T003000Z
DTEND:20130816T023000Z
X-MICROSOFT-CDO-ALLDAYEVENT:FALSE
SUMMARY:CVCC Monthly Mixer
DESCRIPTION:CVCC Monthly Mixer @ Chino Valley Medical Center\n\nYou are invited to an Open House for the newly installed da Vinci Surgical System
X-ALT-DESC;FMTTYPE=text/html:CVCC&nbsp\;Monthly Mixer @ Chino Valley Medical Center<br />\nYou are invited to an Open House&nbsp\;for the newly&nbsp\;installed&nbsp\;da Vinci Surgical System
LOCATION:Chino Valley Medical Center - Open House 5451 Walnut Ave.\, Chino
UID:e.1511.379
SEQUENCE:3
DTSTAMP:20260421T235148Z
URL:https://business.chinovalleychamber.com/events/details/cvcc-monthly-mixer-08-15-2013-379
END:VEVENT

END:VCALENDAR
