BEGIN:VCALENDAR
VERSION:2.0
PRODID:-//ChamberMaster//Event Calendar 2.0//EN
METHOD:PUBLISH
X-PUBLISHED-TTL:P3D
REFRESH-INTERVAL:P3D
CALSCALE:GREGORIAN
BEGIN:VEVENT
DTSTART:20130719T000000Z
DTEND:20130719T023000Z
X-MICROSOFT-CDO-ALLDAYEVENT:FALSE
SUMMARY:CVCC Monthly Mixer
DESCRIPTION:CVCC Monthly Mixer
X-ALT-DESC;FMTTYPE=text/html:CVCC Monthly Mixer
LOCATION:Chino Airport 7000 Merrill Ave.\, Chino
UID:e.1511.344
SEQUENCE:3
DTSTAMP:20260422T011613Z
URL:https://business.chinovalleychamber.com/events/details/cvcc-monthly-mixer-07-18-2013-344
END:VEVENT

END:VCALENDAR
