BEGIN:VCALENDAR
VERSION:2.0
PRODID:-//ChamberMaster//Event Calendar 2.0//EN
METHOD:PUBLISH
X-PUBLISHED-TTL:P3D
REFRESH-INTERVAL:P3D
CALSCALE:GREGORIAN
BEGIN:VEVENT
DTSTART:20250612T190000Z
DTEND:20250612T200000Z
X-MICROSOFT-CDO-ALLDAYEVENT:FALSE
SUMMARY:CVCC Legislative Advocacy: Understanding Tariffs
DESCRIPTION:Legislative Advocacy Roundtable: Understanding Tariffs\n\n  Date: Thursday\, June 12\, 2025\n\n  Time: 12:00 PM   1:00 PM\n\n  Format: Hybrid (In-Person & Virtual Options Available)\n\n  Featured Speaker: Jennings Immel\, Vice President\, Western Region\, U.S. Chamber of Commerce\n\nJoin the Chino Valley Chamber's Legislative Advocacy Team for an in-depth hybrid discussion on tariffs\, trade policy\, and their real-world impact on local businesses. Jennings Immel of the U.S. Chamber of Commerce will lead this timely conversation\, offering insights into current federal trade strategies\, pending legislation\, and how tariffs are shaping the business landscape.\n\nWhether you're a business owner\, policy advocate\, or just curious about international trade\, this is your opportunity to hear directly from a national policy leader and engage in meaningful dialogue on the economic forces affecting our region.\n\n  RSVP and access details will be provided upon registration.\n\nMake your voice heard. Stay informed. Advocate effectively.\n\nIf you have any questions please email Julia Cabrera\, Community Engagement Director at jcabrera@chinovalleychamber.com \n\n \n\n\nTitle Sponsor   $2\,500\n\n\n	\n	Recognized as the exclusive Title Sponsor\n	\n	\n	Opportunity to welcome attendees at the start of the event\n	\n	\n	Prominent logo placement on all event marketing\, website\, and program materials\n	\n	\n	Logo and name included in press releases and post-event recap\n	\n	\n	Featured social media spotlight post\n	\n	\n	Reserved seat at the roundtable (if attending in person)\n	\n	\n	Recognition in email marketing to Chamber members\n	\n\n\n\nAdvocacy Partner   $1\,000\n\n\n	\n	Logo featured on event materials and website\n	\n	\n	Verbal recognition during the event\n	\n	\n	Inclusion in social media event promotions\n	\n	\n	Reserved seat at the roundtable (if attending in person)\n	\n	\n	Recognition in email marketing to Chamber members\n	\n\n\n\nPolicy Influencer   $500\n\n\n	\n	Name listed on website and event marketing\n	\n	\n	Verbal mention during the event\n	\n	\n	Inclusion in group social media thank-you post\n	\n	\n	Recognition in event follow-up communications\n	\n\n\n\nCommunity Supporter   $250\n\n\n	\n	Name listed on event program and website\n	\n	\n	Recognition in group sponsor slide during the event\n	\n\n\n\nChamber Ally   $100\n\n\n	\n	Name listed as a supporting sponsor on website and event materials
X-ALT-DESC;FMTTYPE=text/html:<p>&nbsp\;</p>\n\n<p><strong>&#128227\; Legislative Advocacy Roundtable: Understanding Tariffs</strong><br />\n<strong>&#128467\; Date:</strong> Thursday\, June 12\, 2025<br />\n<strong>&#128347\; Time:</strong> 12:00 PM &ndash\; 1:00 PM<br />\n<strong>&#128205\; Format:</strong> Hybrid (In-Person &amp\; Virtual Options Available)<br />\n<strong>&#127897\; Featured Speaker:</strong> <em>Jennings Immel\, Vice President\, Western Region\, U.S. Chamber of Commerce</em></p>\n\n<p>Join the Chino Valley Chamber&rsquo\;s Legislative Advocacy Team for an in-depth hybrid discussion on tariffs\, trade policy\, and their real-world impact on local businesses. Jennings Immel of the U.S. Chamber of Commerce will lead this timely conversation\, offering insights into current federal trade strategies\, pending legislation\, and how tariffs are shaping the business landscape.</p>\n\n<p>Whether you&rsquo\;re a business owner\, policy advocate\, or just curious about international trade\, this is your opportunity to hear directly from a national policy leader and engage in meaningful dialogue on the economic forces affecting our region.</p>\n\n<p><strong>&#128279\; RSVP and access details will be provided upon registration.</strong></p>\n\n<p>Make your voice heard. Stay informed. Advocate effectively.</p>\n\n<p>If you have any questions please email Julia Cabrera\, Community Engagement Director at jcabrera@chinovalleychamber.com&nbsp\;<br />\n&nbsp\;</p>\n\n<hr />\n<h3><strong>Title Sponsor &ndash\; $2\,500</strong></h3>\n\n<ul>\n	<li>\n	<p>Recognized as the <strong>exclusive Title Sponsor</strong></p>\n	</li>\n	<li>\n	<p>Opportunity to welcome attendees at the start of the event</p>\n	</li>\n	<li>\n	<p>Prominent logo placement on all event marketing\, website\, and program materials</p>\n	</li>\n	<li>\n	<p>Logo and name included in press releases and post-event recap</p>\n	</li>\n	<li>\n	<p>Featured social media spotlight post</p>\n	</li>\n	<li>\n	<p>Reserved seat at the roundtable (if attending in person)</p>\n	</li>\n	<li>\n	<p>Recognition in email marketing to Chamber members</p>\n	</li>\n</ul>\n\n<hr />\n<h3><strong>Advocacy Partner &ndash\; $1\,000</strong></h3>\n\n<ul>\n	<li>\n	<p>Logo featured on event materials and website</p>\n	</li>\n	<li>\n	<p>Verbal recognition during the event</p>\n	</li>\n	<li>\n	<p>Inclusion in social media event promotions</p>\n	</li>\n	<li>\n	<p>Reserved seat at the roundtable (if attending in person)</p>\n	</li>\n	<li>\n	<p>Recognition in email marketing to Chamber members</p>\n	</li>\n</ul>\n\n<hr />\n<h3><strong>Policy Influencer &ndash\; $500</strong></h3>\n\n<ul>\n	<li>\n	<p>Name listed on website and event marketing</p>\n	</li>\n	<li>\n	<p>Verbal mention during the event</p>\n	</li>\n	<li>\n	<p>Inclusion in group social media thank-you post</p>\n	</li>\n	<li>\n	<p>Recognition in event follow-up communications</p>\n	</li>\n</ul>\n\n<hr />\n<h3><strong>Community Supporter &ndash\; $250</strong></h3>\n\n<ul>\n	<li>\n	<p>Name listed on event program and website</p>\n	</li>\n	<li>\n	<p>Recognition in group sponsor slide during the event</p>\n	</li>\n</ul>\n\n<hr />\n<h3><strong>Chamber Ally &ndash\; $100</strong></h3>\n\n<ul>\n	<li>\n	<p>Name listed as a supporting sponsor on website and event materials</p>\n	</li>\n</ul>\n\n<hr />\n<p>&nbsp\;</p>\n
LOCATION:
UID:e.1511.6864
SEQUENCE:3
DTSTAMP:20260422T145538Z
URL:https://business.chinovalleychamber.com/events/details/cvcc-legislative-advocacy-understanding-tariffs-6864
END:VEVENT

END:VCALENDAR
