BEGIN:VCALENDAR
VERSION:2.0
PRODID:-//ChamberMaster//Event Calendar 2.0//EN
METHOD:PUBLISH
X-PUBLISHED-TTL:P3D
REFRESH-INTERVAL:P3D
CALSCALE:GREGORIAN
BEGIN:VEVENT
DTSTART:20140516T000000Z
DTEND:20140516T020000Z
X-MICROSOFT-CDO-ALLDAYEVENT:FALSE
SUMMARY:CVCC & Chino Valley Medical Center - Monthly Mixer/Open House
DESCRIPTION:YOU ARE INVITED to an Open House FOR THE NEWLY INSTALLED da Vinci Surgical System at Chino Valley Medical Center
X-ALT-DESC;FMTTYPE=text/html:<strong>YOU ARE INVITED to an Open House FOR THE NEWLY INSTALLED&nbsp\;da&nbsp\;Vinci Surgical System at Chino Valley Medical Center</strong>
LOCATION:Chino Valley Medical Center (at the Conference Room) 5451 Walnut Avenue\, Chino
UID:e.1511.565
SEQUENCE:3
DTSTAMP:20260421T111212Z
URL:https://business.chinovalleychamber.com/events/details/cvcc-chino-valley-medical-center-monthly-mixer-open-house-05-15-2014-565
END:VEVENT

END:VCALENDAR
