BEGIN:VCALENDAR
VERSION:2.0
PRODID:-//ChamberMaster//Event Calendar 2.0//EN
METHOD:PUBLISH
X-PUBLISHED-TTL:P3D
REFRESH-INTERVAL:P3D
CALSCALE:GREGORIAN
BEGIN:VEVENT
DTSTART:20140313T180000Z
DTEND:20140313T220000Z
X-MICROSOFT-CDO-ALLDAYEVENT:FALSE
SUMMARY:Customer Appreciation Day - Al's Beef
DESCRIPTION:Customer Appreciation Day!\n\n\n\nAl's Beef\n\n\n\n$1.00 BEEF - ONE DAY ONLY - MARCH 13TH\n\n\n\n1 regular 6" beef per person - peppers & cheese additional
X-ALT-DESC;FMTTYPE=text/html:<br />\n<strong><span style="color:#8B4513\;"><span style="font-size:16px\;">Customer Appreciation Day!</span></span><br />\n<br />\n<span style="font-size:18px\;"><span style="color:#006400\;">Al&#39\;s Beef</span></span><br />\n<br />\n<span style="color:#FF0000\;"><span style="font-family:tahoma\;">$1.00 BEEF - ONE DAY ONLY - MARCH 13TH</span></span><br />\n<br />\n<span style="font-size:12px\;"><span style="font-family:tahoma\;">1 regular 6&quot\; beef per person - peppers &amp\; cheese additional</span></span></strong>
LOCATION:Al's Beef 4021 Grand Avenue\, Chino
UID:e.1511.543
SEQUENCE:3
DTSTAMP:20260421T135859Z
URL:https://business.chinovalleychamber.com/events/details/customer-appreciation-day-al-s-beef-03-13-2014-543
END:VEVENT

END:VCALENDAR
