BEGIN:VCALENDAR
VERSION:2.0
PRODID:-//ChamberMaster//Event Calendar 2.0//EN
METHOD:PUBLISH
X-PUBLISHED-TTL:P3D
REFRESH-INTERVAL:P3D
CALSCALE:GREGORIAN
BEGIN:VEVENT
DTSTART:20131017T183000Z
DTEND:20131017T200000Z
X-MICROSOFT-CDO-ALLDAYEVENT:FALSE
SUMMARY:Community Leaders Briefing On Water Supply Issue
DESCRIPTION:Please join the Metropolitan Water District of Southern California and the Inland Empire Economic Partnership in recognizing legislators of the Inland Empire. An overview of water issues impacting the state\, Southern California and local communities will be presented\, with a moderated panel response from state and federal legislators on how these water issues impact their respective districts.\n\n\n\nFeaturing - Inland Empire Federal and State Legislative Representatives - Also featuring Jeffery Kightlinger\, General Manager\, Metropolitan Water District of Southern California.
X-ALT-DESC;FMTTYPE=text/html:Please join the Metropolitan Water District of Southern California and the Inland Empire Economic Partnership in recognizing legislators of the Inland Empire. An overview of water issues impacting the state\, Southern California and local communities will be presented\, with a moderated panel response from state and federal legislators on how these water issues impact their respective districts.<br />\n<br />\nFeaturing - Inland Empire Federal and State Legislative Representatives - Also featuring Jeffery Kightlinger\, General Manager\, Metropolitan Water District of Southern California.
LOCATION:The DoubleTree Hotel 222 N. Vineyard Ave.\, Ontario
UID:e.1511.442
SEQUENCE:3
DTSTAMP:20260421T210527Z
URL:https://business.chinovalleychamber.com/events/details/community-leaders-briefing-on-water-supply-issue-10-17-2013-442
END:VEVENT

END:VCALENDAR
